Workbook
Name meibo: 'No.3 名簿'!$B$4:$F$53
Name シニア: データ※編集不可!$D$2:$D$9
Name ジュニア: データ※編集不可!$C$2:$C$7
Name チャイルド: データ※編集不可!$B$2:$B$7

Sheet No.1 申込書
A1: 第2回 M’s CUP 新体操競技会 No.1 大会申込書
D2: 色つきのセルに入力して下さい
B4: クラブ名
B5: 代表者
B6: 郵便番号
B7: 住所
B8: 大会中に 連絡のつく携帯番号
B9: PCメールアドレス 大会の詳細などをご連絡します

Sheet No.2 審判
A1: 第2回 M’s CUP 新体操競技会 No.2 帯同審判員申請
B3: 帯同審判員の有無 | F3: ←選択
B4: 帯同審判員①
B5: 派遣日 | F5: ←選択
B6: 氏名
B7: 連絡先 | C7: 電話番号
C8: メールアドレス
B9: 審判資格 | F9: ←選択
B10: その他（午前中であれば可能等）
B11: 帯同審判員②
B12: 派遣日 | F12: ←選択
B13: 氏名
B14: 連絡先 | C14: 電話番号
C15: メールアドレス
B16: 審判資格 | F16: ←選択
B17: その他（午前中であれば可能等）

Sheet No.3 名簿
A1: 第2回 M’s CUP 新体操競技会 No.3 出場者名簿
B2: 出場者名簿 | H2: 出場回数
B3: ID | C3: 属性 | D3: 学年 | E3: 名前 | F3: ふりがな | H3: 個人 | I3: 団体 | J3: エキシビション
B4: 1 | H4: =IF($C4="","",COUNTIF('No.4 個人'!$C$5:$C$36,'No.3 名簿'!$B4)) | I4: =IF($C4="","",COUNTIF('No.5 団体'!$B$5:$B$60,$B4)+COUNTIF('No.5 団体'!$D$5:$D$60,$B4)) | J4: =IF($C4="","",COUNTIF('No.6 エキシビション'!$A$5:$E$35,$B4))
B5: 2 | H5: =IF($C5="","",COUNTIF('No.4 個人'!$C$5:$C$36,'No.3 名簿'!$B5)) | I5: =IF($C5="","",COUNTIF('No.5 団体'!$B$5:$B$60,$B5)+COUNTIF('No.5 団体'!$D$5:$D$60,$B5)) | J5: =IF($C5="","",COUNTIF('No.6 エキシビション'!$A$5:$E$35,$B5))
B6: 3 | H6: =IF($C6="","",COUNTIF('No.4 個人'!$C$5:$C$36,'No.3 名簿'!$B6)) | I6: =IF($C6="","",COUNTIF('No.5 団体'!$B$5:$B$60,$B6)+COUNTIF('No.5 団体'!$D$5:$D$60,$B6)) | J6: =IF($C6="","",COUNTIF('No.6 エキシビション'!$A$5:$E$35,$B6))
B7: 4 | H7: =IF($C7="","",COUNTIF('No.4 個人'!$C$5:$C$36,'No.3 名簿'!$B7)) | I7: =IF($C7="","",COUNTIF('No.5 団体'!$B$5:$B$60,$B7)+COUNTIF('No.5 団体'!$D$5:$D$60,$B7)) | J7: =IF($C7="","",COUNTIF('No.6 エキシビション'!$A$5:$E$35,$B7))
B8: 5 | H8: =IF($C8="","",COUNTIF('No.4 個人'!$C$5:$C$36,'No.3 名簿'!$B8)) | I8: =IF($C8="","",COUNTIF('No.5 団体'!$B$5:$B$60,$B8)+COUNTIF('No.5 団体'!$D$5:$D$60,$B8)) | J8: =IF($C8="","",COUNTIF('No.6 エキシビション'!$A$5:$E$35,$B8))
B9: 6 | H9: =IF($C9="","",COUNTIF('No.4 個人'!$C$5:$C$36,'No.3 名簿'!$B9)) | I9: =IF($C9="","",COUNTIF('No.5 団体'!$B$5:$B$60,$B9)+COUNTIF('No.5 団体'!$D$5:$D$60,$B9)) | J9: =IF($C9="","",COUNTIF('No.6 エキシビション'!$A$5:$E$35,$B9))
B10: 7 | H10: =IF($C10="","",COUNTIF('No.4 個人'!$C$5:$C$36,'No.3 名簿'!$B10)) | I10: =IF($C10="","",COUNTIF('No.5 団体'!$B$5:$B$60,$B10)+COUNTIF('No.5 団体'!$D$5:$D$60,$B10)) | J10: =IF($C10="","",COUNTIF('No.6 エキシビション'!$A$5:$E$35,$B10))
B11: 8 | H11: =IF($C11="","",COUNTIF('No.4 個人'!$C$5:$C$36,'No.3 名簿'!$B11)) | I11: =IF($C11="","",COUNTIF('No.5 団体'!$B$5:$B$60,$B11)+COUNTIF('No.5 団体'!$D$5:$D$60,$B11)) | J11: =IF($C11="","",COUNTIF('No.6 エキシビション'!$A$5:$E$35,$B11))
B12: 9 | H12: =IF($C12="","",COUNTIF('No.4 個人'!$C$5:$C$36,'No.3 名簿'!$B12)) | I12: =IF($C12="","",COUNTIF('No.5 団体'!$B$5:$B$60,$B12)+COUNTIF('No.5 団体'!$D$5:$D$60,$B12)) | J12: =IF($C12="","",COUNTIF('No.6 エキシビション'!$A$5:$E$35,$B12))
B13: 10 | H13: =IF($C13="","",COUNTIF('No.4 個人'!$C$5:$C$36,'No.3 名簿'!$B13)) | I13: =IF($C13="","",COUNTIF('No.5 団体'!$B$5:$B$60,$B13)+COUNTIF('No.5 団体'!$D$5:$D$60,$B13)) | J13: =IF($C13="","",COUNTIF('No.6 エキシビション'!$A$5:$E$35,$B13))
B14: 11 | H14: =IF($C14="","",COUNTIF('No.4 個人'!$C$5:$C$36,'No.3 名簿'!$B14)) | I14: =IF($C14="","",COUNTIF('No.5 団体'!$B$5:$B$60,$B14)+COUNTIF('No.5 団体'!$D$5:$D$60,$B14)) | J14: =IF($C14="","",COUNTIF('No.6 エキシビション'!$A$5:$E$35,$B14))
B15: 12 | H15: =IF($C15="","",COUNTIF('No.4 個人'!$C$5:$C$36,'No.3 名簿'!$B15)) | I15: =IF($C15="","",COUNTIF('No.5 団体'!$B$5:$B$60,$B15)+COUNTIF('No.5 団体'!$D$5:$D$60,$B15)) | J15: =IF($C15="","",COUNTIF('No.6 エキシビション'!$A$5:$E$35,$B15))
... B53: 50 | H53: =IF($C53="","",COUNTIF('No.4 個人'!$C$5:$C$36,'No.3 名簿'!$B53)) | I53: =IF($C53="","",COUNTIF('No.5 団体'!$B$5:$B$60,$B53)+COUNTIF('No.5 団体'!$D$5:$D$60,$B53)) | J53: =IF($C53="","",COUNTIF('No.6 エキシビション'!$A$5:$E$35,$B53))

Sheet No.4 個人
B1: 色つきのセルに 入力して下さい | E1: 第2回 M’s CUP 新体操競技会 No.4 個人
A3: ◯ チャイルド ※８名まで | E3: ≪チャイルド個人≫
B4: 種目 | C4: ID | F4: 種目 | G4: 選手名 | H4: 学年
A5: 1 | E5: 1 | F5: =IF(B5="","",B5) | G5: =IF(C5="","",VLOOKUP(C5,'No.3 名簿'!meibo,4)) | H5: =IF(C5="","",VLOOKUP(C5,'No.3 名簿'!meibo,3))
A6: 2 | E6: 2 | F6: =IF(B6="","",B6) | G6: =IF(C6="","",VLOOKUP(C6,'No.3 名簿'!meibo,4)) | H6: =IF(C6="","",VLOOKUP(C6,'No.3 名簿'!meibo,3))
A7: 3 | E7: 3 | F7: =IF(B7="","",B7) | G7: =IF(C7="","",VLOOKUP(C7,'No.3 名簿'!meibo,4)) | H7: =IF(C7="","",VLOOKUP(C7,'No.3 名簿'!meibo,3))
A8: 4 | E8: 4 | F8: =IF(B8="","",B8) | G8: =IF(C8="","",VLOOKUP(C8,'No.3 名簿'!meibo,4)) | H8: =IF(C8="","",VLOOKUP(C8,'No.3 名簿'!meibo,3))
A9: 5 | E9: 5 | F9: =IF(B9="","",B9) | G9: =IF(C9="","",VLOOKUP(C9,'No.3 名簿'!meibo,4)) | H9: =IF(C9="","",VLOOKUP(C9,'No.3 名簿'!meibo,3))
A10: 6 | E10: 6 | F10: =IF(B10="","",B10) | G10: =IF(C10="","",VLOOKUP(C10,'No.3 名簿'!meibo,4)) | H10: =IF(C10="","",VLOOKUP(C10,'No.3 名簿'!meibo,3))
A11: 7 | E11: 7 | F11: =IF(B11="","",B11) | G11: =IF(C11="","",VLOOKUP(C11,'No.3 名簿'!meibo,4)) | H11: =IF(C11="","",VLOOKUP(C11,'No.3 名簿'!meibo,3))
A12: 8 | E12: 8 | F12: =IF(B12="","",B12) | G12: =IF(C12="","",VLOOKUP(C12,'No.3 名簿'!meibo,4)) | H12: =IF(C12="","",VLOOKUP(C12,'No.3 名簿'!meibo,3))
A13: IDは「No.3 名簿」のIDを入力
G14: 出場種目数 | H14: =COUNT(C5:C12) -> 0 | I14: 種目
A15: ◯ ジュニア ※８名まで | E15: ≪ジュニア個人≫
B16: 種目 | C16: ID | F16: 種目 | G16: 選手名 | H16: 学年
A17: 1 | E17: 1 | F17: =IF(B17="","",B17) | G17: =IF(C17="","",VLOOKUP(C17,'No.3 名簿'!meibo,4)) | H17: =IF(C17="","",VLOOKUP(C17,'No.3 名簿'!meibo,3))
A18: 2 | E18: 2 | F18: =IF(B18="","",B18) | G18: =IF(C18="","",VLOOKUP(C18,'No.3 名簿'!meibo,4)) | H18: =IF(C18="","",VLOOKUP(C18,'No.3 名簿'!meibo,3))
A19: 3 | E19: 3 | F19: =IF(B19="","",B19) | G19: =IF(C19="","",VLOOKUP(C19,'No.3 名簿'!meibo,4)) | H19: =IF(C19="","",VLOOKUP(C19,'No.3 名簿'!meibo,3))
A20: 4 | E20: 4 | F20: =IF(B20="","",B20) | G20: =IF(C20="","",VLOOKUP(C20,'No.3 名簿'!meibo,4)) | H20: =IF(C20="","",VLOOKUP(C20,'No.3 名簿'!meibo,3))
A21: 5 | E21: 5 | F21: =IF(B21="","",B21) | G21: =IF(C21="","",VLOOKUP(C21,'No.3 名簿'!meibo,4)) | H21: =IF(C21="","",VLOOKUP(C21,'No.3 名簿'!meibo,3))
A22: 6 | E22: 6 | F22: =IF(B22="","",B22) | G22: =IF(C22="","",VLOOKUP(C22,'No.3 名簿'!meibo,4)) | H22: =IF(C22="","",VLOOKUP(C22,'No.3 名簿'!meibo,3))
A23: 7 | E23: 7 | F23: =IF(B23="","",B23) | G23: =IF(C23="","",VLOOKUP(C23,'No.3 名簿'!meibo,4)) | H23: =IF(C23="","",VLOOKUP(C23,'No.3 名簿'!meibo,3))
A24: 8 | E24: 8 | F24: =IF(B24="","",B24) | G24: =IF(C24="","",VLOOKUP(C24,'No.3 名簿'!meibo,4)) | H24: =IF(C24="","",VLOOKUP(C24,'No.3 名簿'!meibo,3))
A25: IDは「No.3 名簿」のIDを入力
G26: 出場種目数 | H26: =COUNT(C17:C24) -> 0 | I26: 種目
A27: ◯ シニア ※８名まで | E27: ≪シニア個人≫
B28: 種目 | C28: ID | F28: 種目 | G28: 選手名 | H28: 学年
A29: 1 | E29: 1 | F29: =IF(B29="","",B29) | G29: =IF(C29="","",VLOOKUP(C29,'No.3 名簿'!meibo,4)) | H29: =IF(C29="","",VLOOKUP(C29,'No.3 名簿'!meibo,3))
A30: 2 | E30: 2 | F30: =IF(B30="","",B30) | G30: =IF(C30="","",VLOOKUP(C30,'No.3 名簿'!meibo,4)) | H30: =IF(C30="","",VLOOKUP(C30,'No.3 名簿'!meibo,3))
A31: 3 | E31: 3 | F31: =IF(B31="","",B31) | G31: =IF(C31="","",VLOOKUP(C31,'No.3 名簿'!meibo,4)) | H31: =IF(C31="","",VLOOKUP(C31,'No.3 名簿'!meibo,3))
A32: 4 | E32: 4 | F32: =IF(B32="","",B32) | G32: =IF(C32="","",VLOOKUP(C32,'No.3 名簿'!meibo,4)) | H32: =IF(C32="","",VLOOKUP(C32,'No.3 名簿'!meibo,3))
A33: 5 | E33: 5 | F33: =IF(B33="","",B33) | G33: =IF(C33="","",VLOOKUP(C33,'No.3 名簿'!meibo,4)) | H33: =IF(C33="","",VLOOKUP(C33,'No.3 名簿'!meibo,3))
A34: 6 | E34: 6 | F34: =IF(B34="","",B34) | G34: =IF(C34="","",VLOOKUP(C34,'No.3 名簿'!meibo,4)) | H34: =IF(C34="","",VLOOKUP(C34,'No.3 名簿'!meibo,3))
A35: 7 | E35: 7 | F35: =IF(B35="","",B35) | G35: =IF(C35="","",VLOOKUP(C35,'No.3 名簿'!meibo,4)) | H35: =IF(C35="","",VLOOKUP(C35,'No.3 名簿'!meibo,3))
A36: 8 | E36: 8 | F36: =IF(B36="","",B36) | G36: =IF(C36="","",VLOOKUP(C36,'No.3 名簿'!meibo,4)) | H36: =IF(C36="","",VLOOKUP(C36,'No.3 名簿'!meibo,3))
A37: IDは「No.3 名簿」のIDを入力
G38: 出場種目数 | H38: =COUNT(C29:C36) -> 0 | I38: 種目
G40: 出場種目数 | H40: =H38+H26+H14 -> 0 | I40: 種目

Sheet No.5 団体
C1: 色つきのセルに 入力して下さい | F1: 第2回 M’s CUP 新体操競技会 No.5 団体
A2: ◯ チャイルド 徒手×ロープ | F2: ≪チャイルド団体 徒手×ロープ≫
A3: ① | F3: 団体チーム名
B4: ID | D4: ID | F4: 選手名 | H4: 学年 | I4: 選手名 | K4: 学年
A5: 1 | C5: 2 | F5: 1 | G5: =IF(B5="","",VLOOKUP(B5,'No.3 名簿'!meibo,4)) | H5: =IF(B5="","",VLOOKUP(B5,'No.3 名簿'!meibo,3)) | I5: 2 | J5: =IF(D5="","",VLOOKUP(D5,'No.3 名簿'!meibo,4)) | K5: =IF(D5="","",VLOOKUP(D5,'No.3 名簿'!meibo,3))
A6: 3 | C6: 4 | F6: 3 | G6: =IF(B6="","",VLOOKUP(B6,'No.3 名簿'!meibo,4)) | H6: =IF(B6="","",VLOOKUP(B6,'No.3 名簿'!meibo,3)) | I6: 4 | J6: =IF(D6="","",VLOOKUP(D6,'No.3 名簿'!meibo,4)) | K6: =IF(D6="","",VLOOKUP(D6,'No.3 名簿'!meibo,3))
A7: 5 | F7: 5 | G7: =IF(B7="","",VLOOKUP(B7,'No.3 名簿'!meibo,4)) | H7: =IF(B7="","",VLOOKUP(B7,'No.3 名簿'!meibo,3))
A8: 補 | C8: 補 | F8: 補 | G8: =IF(B8="","",VLOOKUP(B8,'No.3 名簿'!meibo,4)) | H8: =IF(B8="","",VLOOKUP(B8,'No.3 名簿'!meibo,3)) | I8: 補 | J8: =IF(D8="","",VLOOKUP(D8,'No.3 名簿'!meibo,4)) | K8: =IF(D8="","",VLOOKUP(D8,'No.3 名簿'!meibo,3))
A9: IDは「No.3 名簿」のIDを入力 | F9: ※補欠の重複、メンバーの重複は×
A10: ② | F10: 団体チーム名
B11: ID | D11: ID | F11: 選手名 | H11: 学年 | I11: 選手名 | K11: 学年
A12: 1 | C12: 2 | F12: 1 | G12: =IF(B12="","",VLOOKUP(B12,'No.3 名簿'!meibo,4)) | H12: =IF(B12="","",VLOOKUP(B12,'No.3 名簿'!meibo,3)) | I12: 2 | J12: =IF(D12="","",VLOOKUP(D12,'No.3 名簿'!meibo,4)) | K12: =IF(D12="","",VLOOKUP(D12,'No.3 名簿'!meibo,3))
A13: 3 | C13: 4 | F13: 3 | G13: =IF(B13="","",VLOOKUP(B13,'No.3 名簿'!meibo,4)) | H13: =IF(B13="","",VLOOKUP(B13,'No.3 名簿'!meibo,3)) | I13: 4 | J13: =IF(D13="","",VLOOKUP(D13,'No.3 名簿'!meibo,4)) | K13: =IF(D13="","",VLOOKUP(D13,'No.3 名簿'!meibo,3))
A14: 5 | F14: 5 | G14: =IF(B14="","",VLOOKUP(B14,'No.3 名簿'!meibo,4)) | H14: =IF(B14="","",VLOOKUP(B14,'No.3 名簿'!meibo,3))
A15: 補 | C15: 補 | F15: 補 | G15: =IF(B15="","",VLOOKUP(B15,'No.3 名簿'!meibo,4)) | H15: =IF(B15="","",VLOOKUP(B15,'No.3 名簿'!meibo,3)) | I15: 補 | J15: =IF(D15="","",VLOOKUP(D15,'No.3 名簿'!meibo,4)) | K15: =IF(D15="","",VLOOKUP(D15,'No.3 名簿'!meibo,3))
A16: IDは「No.3 名簿」のIDを入力 | F16: ※補欠の重複、メンバーの重複は×
A17: ◯ チャイルド 徒手 | F17: ≪チャイルド団体 徒手≫（連盟ルール）
A18: ① | F18: 団体チーム名
B19: ID | D19: ID | F19: 選手名 | H19: 学年 | I19: 選手名 | K19: 学年
A20: 1 | C20: 2 | F20: 1 | G20: =IF(B20="","",VLOOKUP(B20,'No.3 名簿'!meibo,4)) | H20: =IF(B20="","",VLOOKUP(B20,'No.3 名簿'!meibo,3)) | I20: 2 | J20: =IF(D20="","",VLOOKUP(D20,'No.3 名簿'!meibo,4)) | K20: =IF(D20="","",VLOOKUP(D20,'No.3 名簿'!meibo,3))
A21: 3 | C21: 4 | F21: 3 | G21: =IF(B21="","",VLOOKUP(B21,'No.3 名簿'!meibo,4)) | H21: =IF(B21="","",VLOOKUP(B21,'No.3 名簿'!meibo,3)) | I21: 4 | J21: =IF(D21="","",VLOOKUP(D21,'No.3 名簿'!meibo,4)) | K21: =IF(D21="","",VLOOKUP(D21,'No.3 名簿'!meibo,3))
A22: 5 | F22: 5 | G22: =IF(B22="","",VLOOKUP(B22,'No.3 名簿'!meibo,4)) | H22: =IF(B22="","",VLOOKUP(B22,'No.3 名簿'!meibo,3))
A23: 補 | C23: 補 | F23: 補 | G23: =IF(B23="","",VLOOKUP(B23,'No.3 名簿'!meibo,4)) | H23: =IF(B23="","",VLOOKUP(B23,'No.3 名簿'!meibo,3)) | I23: 補 | J23: =IF(D23="","",VLOOKUP(D23,'No.3 名簿'!meibo,4)) | K23: =IF(D23="","",VLOOKUP(D23,'No.3 名簿'!meibo,3))
A24: IDは「No.3 名簿」のIDを入力 | F24: ※補欠の重複、メンバーの重複は×
A25: ② | F25: 団体チーム名
B26: ID | D26: ID | F26: 選手名 | H26: 学年 | I26: 選手名 | K26: 学年
A27: 1 | C27: 2 | F27: 1 | G27: =IF(B27="","",VLOOKUP(B27,'No.3 名簿'!meibo,4)) | H27: =IF(B27="","",VLOOKUP(B27,'No.3 名簿'!meibo,3)) | I27: 2 | J27: =IF(D27="","",VLOOKUP(D27,'No.3 名簿'!meibo,4)) | K27: =IF(D27="","",VLOOKUP(D27,'No.3 名簿'!meibo,3))
A28: 3 | C28: 4 | F28: 3 | G28: =IF(B28="","",VLOOKUP(B28,'No.3 名簿'!meibo,4)) | H28: =IF(B28="","",VLOOKUP(B28,'No.3 名簿'!meibo,3)) | I28: 4 | J28: =IF(D28="","",VLOOKUP(D28,'No.3 名簿'!meibo,4)) | K28: =IF(D28="","",VLOOKUP(D28,'No.3 名簿'!meibo,3))
A29: 5 | F29: 5 | G29: =IF(B29="","",VLOOKUP(B29,'No.3 名簿'!meibo,4)) | H29: =IF(B29="","",VLOOKUP(B29,'No.3 名簿'!meibo,3))
A30: 補 | C30: 補 | F30: 補 | G30: =IF(B30="","",VLOOKUP(B30,'No.3 名簿'!meibo,4)) | H30: =IF(B30="","",VLOOKUP(B30,'No.3 名簿'!meibo,3)) | I30: 補 | J30: =IF(D30="","",VLOOKUP(D30,'No.3 名簿'!meibo,4)) | K30: =IF(D30="","",VLOOKUP(D30,'No.3 名簿'!meibo,3))
A31: IDは「No.3 名簿」のIDを入力 | F31: ※補欠の重複、メンバーの重複は×
A32: ◯ ジュニア リボン5 | F32: ≪ジュニア団体 リボン5≫
A33: ① | F33: 団体チーム名
B34: ID | D34: ID | F34: 選手名 | H34: 学年 | I34: 選手名 | K34: 学年
A35: 1 | C35: 2 | F35: 1 | G35: =IF(B35="","",VLOOKUP(B35,'No.3 名簿'!meibo,4)) | H35: =IF(B35="","",VLOOKUP(B35,'No.3 名簿'!meibo,3)) | I35: 2 | J35: =IF(D35="","",VLOOKUP(D35,'No.3 名簿'!meibo,4)) | K35: =IF(D35="","",VLOOKUP(D35,'No.3 名簿'!meibo,3))
A36: 3 | C36: 4 | F36: 3 | G36: =IF(B36="","",VLOOKUP(B36,'No.3 名簿'!meibo,4)) | H36: =IF(B36="","",VLOOKUP(B36,'No.3 名簿'!meibo,3)) | I36: 4 | J36: =IF(D36="","",VLOOKUP(D36,'No.3 名簿'!meibo,4)) | K36: =IF(D36="","",VLOOKUP(D36,'No.3 名簿'!meibo,3))
A37: 5 | F37: 5 | G37: =IF(B37="","",VLOOKUP(B37,'No.3 名簿'!meibo,4)) | H37: =IF(B37="","",VLOOKUP(B37,'No.3 名簿'!meibo,3))
A38: 補 | C38: 補 | F38: 補 | G38: =IF(B38="","",VLOOKUP(B38,'No.3 名簿'!meibo,4)) | H38: =IF(B38="","",VLOOKUP(B38,'No.3 名簿'!meibo,3)) | I38: 補 | J38: =IF(D38="","",VLOOKUP(D38,'No.3 名簿'!meibo,4)) | K38: =IF(D38="","",VLOOKUP(D38,'No.3 名簿'!meibo,3))
A39: IDは「No.3 名簿」のIDを入力 | F39: ※補欠の重複、メンバーの重複は×
A40: ② | F40: 団体チーム名
B41: ID | D41: ID | F41: 選手名 | H41: 学年 | I41: 選手名 | K41: 学年
A42: 1 | C42: 2 | F42: 1 | G42: =IF(B42="","",VLOOKUP(B42,'No.3 名簿'!meibo,4)) | H42: =IF(B42="","",VLOOKUP(B42,'No.3 名簿'!meibo,3)) | I42: 2 | J42: =IF(D42="","",VLOOKUP(D42,'No.3 名簿'!meibo,4)) | K42: =IF(D42="","",VLOOKUP(D42,'No.3 名簿'!meibo,3))
A43: 3 | C43: 4 | F43: 3 | G43: =IF(B43="","",VLOOKUP(B43,'No.3 名簿'!meibo,4)) | H43: =IF(B43="","",VLOOKUP(B43,'No.3 名簿'!meibo,3)) | I43: 4 | J43: =IF(D43="","",VLOOKUP(D43,'No.3 名簿'!meibo,4)) | K43: =IF(D43="","",VLOOKUP(D43,'No.3 名簿'!meibo,3))
A44: 5 | F44: 5 | G44: =IF(B44="","",VLOOKUP(B44,'No.3 名簿'!meibo,4)) | H44: =IF(B44="","",VLOOKUP(B44,'No.3 名簿'!meibo,3))
A45: 補 | C45: 補 | F45: 補 | G45: =IF(B45="","",VLOOKUP(B45,'No.3 名簿'!meibo,4)) | H45: =IF(B45="","",VLOOKUP(B45,'No.3 名簿'!meibo,3)) | I45: 補 | J45: =IF(D45="","",VLOOKUP(D45,'No.3 名簿'!meibo,4)) | K45: =IF(D45="","",VLOOKUP(D45,'No.3 名簿'!meibo,3))
A46: IDは「No.3 名簿」のIDを入力 | F46: ※補欠の重複、メンバーの重複は×
A47: ◯ シニア ボール5 | F47: ≪シニア団体 ボール5≫
A48: ① | F48: 団体チーム名
B49: ID | D49: ID | F49: 選手名 | H49: 学年 | I49: 選手名 | K49: 学年
A50: 1 | C50: 2 | F50: 1 | G50: =IF(B50="","",VLOOKUP(B50,'No.3 名簿'!meibo,4)) | H50: =IF(B50="","",VLOOKUP(B50,'No.3 名簿'!meibo,3)) | I50: 2 | J50: =IF(D50="","",VLOOKUP(D50,'No.3 名簿'!meibo,4)) | K50: =IF(D50="","",VLOOKUP(D50,'No.3 名簿'!meibo,3))
A51: 3 | C51: 4 | F51: 3 | G51: =IF(B51="","",VLOOKUP(B51,'No.3 名簿'!meibo,4)) | H51: =IF(B51="","",VLOOKUP(B51,'No.3 名簿'!meibo,3)) | I51: 4 | J51: =IF(D51="","",VLOOKUP(D51,'No.3 名簿'!meibo,4)) | K51: =IF(D51="","",VLOOKUP(D51,'No.3 名簿'!meibo,3))
A52: 5 | F52: 5 | G52: =IF(B52="","",VLOOKUP(B52,'No.3 名簿'!meibo,4)) | H52: =IF(B52="","",VLOOKUP(B52,'No.3 名簿'!meibo,3))
A53: 補 | C53: 補 | F53: 補 | G53: =IF(B53="","",VLOOKUP(B53,'No.3 名簿'!meibo,4)) | H53: =IF(B53="","",VLOOKUP(B53,'No.3 名簿'!meibo,3)) | I53: 補 | J53: =IF(D53="","",VLOOKUP(D53,'No.3 名簿'!meibo,4)) | K53: =IF(D53="","",VLOOKUP(D53,'No.3 名簿'!meibo,3))
A54: IDは「No.3 名簿」のIDを入力 | F54: ※補欠の重複、メンバーの重複は×
A55: ② | F55: 団体チーム名
B56: ID | D56: ID | F56: 選手名 | H56: 学年 | I56: 選手名 | K56: 学年
A57: 1 | C57: 2 | F57: 1 | G57: =IF(B57="","",VLOOKUP(B57,'No.3 名簿'!meibo,4)) | H57: =IF(B57="","",VLOOKUP(B57,'No.3 名簿'!meibo,3)) | I57: 2 | J57: =IF(D57="","",VLOOKUP(D57,'No.3 名簿'!meibo,4)) | K57: =IF(D57="","",VLOOKUP(D57,'No.3 名簿'!meibo,3))
A58: 3 | C58: 4 | F58: 3 | G58: =IF(B58="","",VLOOKUP(B58,'No.3 名簿'!meibo,4)) | H58: =IF(B58="","",VLOOKUP(B58,'No.3 名簿'!meibo,3)) | I58: 4 | J58: =IF(D58="","",VLOOKUP(D58,'No.3 名簿'!meibo,4)) | K58: =IF(D58="","",VLOOKUP(D58,'No.3 名簿'!meibo,3))
A59: 5 | F59: 5 | G59: =IF(B59="","",VLOOKUP(B59,'No.3 名簿'!meibo,4)) | H59: =IF(B59="","",VLOOKUP(B59,'No.3 名簿'!meibo,3))
A60: 補 | C60: 補 | F60: 補 | G60: =IF(B60="","",VLOOKUP(B60,'No.3 名簿'!meibo,4)) | H60: =IF(B60="","",VLOOKUP(B60,'No.3 名簿'!meibo,3)) | I60: 補 | J60: =IF(D60="","",VLOOKUP(D60,'No.3 名簿'!meibo,4)) | K60: =IF(D60="","",VLOOKUP(D60,'No.3 名簿'!meibo,3))
A61: IDは「No.3 名簿」のIDを入力 | F61: ※補欠の重複、メンバーの重複は×
I62: 出場チーム | J62: =COUNTA(H48,H33,H18,H3,H10,H25,H40,H55) -> 0 | K62: チーム

Sheet No.6 エキシビション
D1: 色つきのセルに 入力して下さい | F1: 第2回 M’s CUP 新体操競技会 エキシビション
A2: ◯ エキシビション フリー演技 | G2: ≪エキシビション フリー演技≫
G3: 演技タイトル | K3: 演技時間 | N3: ※3分以内です
A4: ID | G4: 選手名 | H4: 学年 | I4: 選手名 | J4: 学年 | K4: 選手名 | L4: 学年 | M4: 選手名 | N4: 学年 | O4: 選手名 | P4: 学年
G5: =IF(A5="","",VLOOKUP(A5,'No.3 名簿'!meibo,4)) | H5: =IF(A5="","",VLOOKUP(A5,'No.3 名簿'!meibo,3)) | I5: =IF(B5="","",VLOOKUP(B5,'No.3 名簿'!meibo,4)) | J5: =IF(B5="","",VLOOKUP(B5,'No.3 名簿'!meibo,3)) | K5: =IF(C5="","",VLOOKUP(C5,'No.3 名簿'!meibo,4)) | L5: =IF(C5="","",VLOOKUP(C5,'No.3 名簿'!meibo,3)) | M5: =IF(D5="","",VLOOKUP(D5,'No.3 名簿'!meibo,4)) | N5: =IF(D5="","",VLOOKUP(D5,'No.3 名簿'!meibo,3)) | O5: =IF(E5="","",VLOOKUP(E5,'No.3 名簿'!meibo,4)) | P5: =IF(E5="","",VLOOKUP(E5,'No.3 名簿'!meibo,3))
G6: =IF(A6="","",VLOOKUP(A6,'No.3 名簿'!meibo,4)) | H6: =IF(A6="","",VLOOKUP(A6,'No.3 名簿'!meibo,3)) | I6: =IF(B6="","",VLOOKUP(B6,'No.3 名簿'!meibo,4)) | J6: =IF(B6="","",VLOOKUP(B6,'No.3 名簿'!meibo,3)) | K6: =IF(C6="","",VLOOKUP(C6,'No.3 名簿'!meibo,4)) | L6: =IF(C6="","",VLOOKUP(C6,'No.3 名簿'!meibo,3)) | M6: =IF(D6="","",VLOOKUP(D6,'No.3 名簿'!meibo,4)) | N6: =IF(D6="","",VLOOKUP(D6,'No.3 名簿'!meibo,3)) | O6: =IF(E6="","",VLOOKUP(E6,'No.3 名簿'!meibo,4)) | P6: =IF(E6="","",VLOOKUP(E6,'No.3 名簿'!meibo,3))
G7: =IF(A7="","",VLOOKUP(A7,'No.3 名簿'!meibo,4)) | H7: =IF(A7="","",VLOOKUP(A7,'No.3 名簿'!meibo,3)) | I7: =IF(B7="","",VLOOKUP(B7,'No.3 名簿'!meibo,4)) | J7: =IF(B7="","",VLOOKUP(B7,'No.3 名簿'!meibo,3)) | K7: =IF(C7="","",VLOOKUP(C7,'No.3 名簿'!meibo,4)) | L7: =IF(C7="","",VLOOKUP(C7,'No.3 名簿'!meibo,3)) | M7: =IF(D7="","",VLOOKUP(D7,'No.3 名簿'!meibo,4)) | N7: =IF(D7="","",VLOOKUP(D7,'No.3 名簿'!meibo,3)) | O7: =IF(E7="","",VLOOKUP(E7,'No.3 名簿'!meibo,4)) | P7: =IF(E7="","",VLOOKUP(E7,'No.3 名簿'!meibo,3))
G8: =IF(A8="","",VLOOKUP(A8,'No.3 名簿'!meibo,4)) | H8: =IF(A8="","",VLOOKUP(A8,'No.3 名簿'!meibo,3)) | I8: =IF(B8="","",VLOOKUP(B8,'No.3 名簿'!meibo,4)) | J8: =IF(B8="","",VLOOKUP(B8,'No.3 名簿'!meibo,3)) | K8: =IF(C8="","",VLOOKUP(C8,'No.3 名簿'!meibo,4)) | L8: =IF(C8="","",VLOOKUP(C8,'No.3 名簿'!meibo,3)) | M8: =IF(D8="","",VLOOKUP(D8,'No.3 名簿'!meibo,4)) | N8: =IF(D8="","",VLOOKUP(D8,'No.3 名簿'!meibo,3)) | O8: =IF(E8="","",VLOOKUP(E8,'No.3 名簿'!meibo,4)) | P8: =IF(E8="","",VLOOKUP(E8,'No.3 名簿'!meibo,3))
G9: =IF(A9="","",VLOOKUP(A9,'No.3 名簿'!meibo,4)) | H9: =IF(A9="","",VLOOKUP(A9,'No.3 名簿'!meibo,3)) | I9: =IF(B9="","",VLOOKUP(B9,'No.3 名簿'!meibo,4)) | J9: =IF(B9="","",VLOOKUP(B9,'No.3 名簿'!meibo,3)) | K9: =IF(C9="","",VLOOKUP(C9,'No.3 名簿'!meibo,4)) | L9: =IF(C9="","",VLOOKUP(C9,'No.3 名簿'!meibo,3)) | M9: =IF(D9="","",VLOOKUP(D9,'No.3 名簿'!meibo,4)) | N9: =IF(D9="","",VLOOKUP(D9,'No.3 名簿'!meibo,3)) | O9: =IF(E9="","",VLOOKUP(E9,'No.3 名簿'!meibo,4)) | P9: =IF(E9="","",VLOOKUP(E9,'No.3 名簿'!meibo,3))
G10: =IF(A10="","",VLOOKUP(A10,'No.3 名簿'!meibo,4)) | H10: =IF(A10="","",VLOOKUP(A10,'No.3 名簿'!meibo,3)) | I10: =IF(B10="","",VLOOKUP(B10,'No.3 名簿'!meibo,4)) | J10: =IF(B10="","",VLOOKUP(B10,'No.3 名簿'!meibo,3)) | K10: =IF(C10="","",VLOOKUP(C10,'No.3 名簿'!meibo,4)) | L10: =IF(C10="","",VLOOKUP(C10,'No.3 名簿'!meibo,3)) | M10: =IF(D10="","",VLOOKUP(D10,'No.3 名簿'!meibo,4)) | N10: =IF(D10="","",VLOOKUP(D10,'No.3 名簿'!meibo,3)) | O10: =IF(E10="","",VLOOKUP(E10,'No.3 名簿'!meibo,4)) | P10: =IF(E10="","",VLOOKUP(E10,'No.3 名簿'!meibo,3))
A11: IDは「No.3 名簿」のIDを入力 | G11: ※団体、個人に出場する選手も可能
M12: 出場人数 | O12: =COUNT(A5:E10) -> 0 | P12: 人
A14: ◯ エキシビション フリー演技 | G14: ≪エキシビション フリー演技≫
G15: 演技タイトル | K15: 演技時間 | N15: ※3分以内です
A16: ID | G16: 選手名 | H16: 学年 | I16: 選手名 | J16: 学年 | K16: 選手名 | L16: 学年 | M16: 選手名 | N16: 学年 | O16: 選手名 | P16: 学年
G17: =IF(A17="","",VLOOKUP(A17,'No.3 名簿'!meibo,4)) | H17: =IF(A17="","",VLOOKUP(A17,'No.3 名簿'!meibo,3)) | I17: =IF(B17="","",VLOOKUP(B17,'No.3 名簿'!meibo,4)) | J17: =IF(B17="","",VLOOKUP(B17,'No.3 名簿'!meibo,3)) | K17: =IF(C17="","",VLOOKUP(C17,'No.3 名簿'!meibo,4)) | L17: =IF(C17="","",VLOOKUP(C17,'No.3 名簿'!meibo,3)) | M17: =IF(D17="","",VLOOKUP(D17,'No.3 名簿'!meibo,4)) | N17: =IF(D17="","",VLOOKUP(D17,'No.3 名簿'!meibo,3)) | O17: =IF(E17="","",VLOOKUP(E17,'No.3 名簿'!meibo,4)) | P17: =IF(E17="","",VLOOKUP(E17,'No.3 名簿'!meibo,3))
G18: =IF(A18="","",VLOOKUP(A18,'No.3 名簿'!meibo,4)) | H18: =IF(A18="","",VLOOKUP(A18,'No.3 名簿'!meibo,3)) | I18: =IF(B18="","",VLOOKUP(B18,'No.3 名簿'!meibo,4)) | J18: =IF(B18="","",VLOOKUP(B18,'No.3 名簿'!meibo,3)) | K18: =IF(C18="","",VLOOKUP(C18,'No.3 名簿'!meibo,4)) | L18: =IF(C18="","",VLOOKUP(C18,'No.3 名簿'!meibo,3)) | M18: =IF(D18="","",VLOOKUP(D18,'No.3 名簿'!meibo,4)) | N18: =IF(D18="","",VLOOKUP(D18,'No.3 名簿'!meibo,3)) | O18: =IF(E18="","",VLOOKUP(E18,'No.3 名簿'!meibo,4)) | P18: =IF(E18="","",VLOOKUP(E18,'No.3 名簿'!meibo,3))
G19: =IF(A19="","",VLOOKUP(A19,'No.3 名簿'!meibo,4)) | H19: =IF(A19="","",VLOOKUP(A19,'No.3 名簿'!meibo,3)) | I19: =IF(B19="","",VLOOKUP(B19,'No.3 名簿'!meibo,4)) | J19: =IF(B19="","",VLOOKUP(B19,'No.3 名簿'!meibo,3)) | K19: =IF(C19="","",VLOOKUP(C19,'No.3 名簿'!meibo,4)) | L19: =IF(C19="","",VLOOKUP(C19,'No.3 名簿'!meibo,3)) | M19: =IF(D19="","",VLOOKUP(D19,'No.3 名簿'!meibo,4)) | N19: =IF(D19="","",VLOOKUP(D19,'No.3 名簿'!meibo,3)) | O19: =IF(E19="","",VLOOKUP(E19,'No.3 名簿'!meibo,4)) | P19: =IF(E19="","",VLOOKUP(E19,'No.3 名簿'!meibo,3))
G20: =IF(A20="","",VLOOKUP(A20,'No.3 名簿'!meibo,4)) | H20: =IF(A20="","",VLOOKUP(A20,'No.3 名簿'!meibo,3)) | I20: =IF(B20="","",VLOOKUP(B20,'No.3 名簿'!meibo,4)) | J20: =IF(B20="","",VLOOKUP(B20,'No.3 名簿'!meibo,3)) | K20: =IF(C20="","",VLOOKUP(C20,'No.3 名簿'!meibo,4)) | L20: =IF(C20="","",VLOOKUP(C20,'No.3 名簿'!meibo,3)) | M20: =IF(D20="","",VLOOKUP(D20,'No.3 名簿'!meibo,4)) | N20: =IF(D20="","",VLOOKUP(D20,'No.3 名簿'!meibo,3)) | O20: =IF(E20="","",VLOOKUP(E20,'No.3 名簿'!meibo,4)) | P20: =IF(E20="","",VLOOKUP(E20,'No.3 名簿'!meibo,3))
G21: =IF(A21="","",VLOOKUP(A21,'No.3 名簿'!meibo,4)) | H21: =IF(A21="","",VLOOKUP(A21,'No.3 名簿'!meibo,3)) | I21: =IF(B21="","",VLOOKUP(B21,'No.3 名簿'!meibo,4)) | J21: =IF(B21="","",VLOOKUP(B21,'No.3 名簿'!meibo,3)) | K21: =IF(C21="","",VLOOKUP(C21,'No.3 名簿'!meibo,4)) | L21: =IF(C21="","",VLOOKUP(C21,'No.3 名簿'!meibo,3)) | M21: =IF(D21="","",VLOOKUP(D21,'No.3 名簿'!meibo,4)) | N21: =IF(D21="","",VLOOKUP(D21,'No.3 名簿'!meibo,3)) | O21: =IF(E21="","",VLOOKUP(E21,'No.3 名簿'!meibo,4)) | P21: =IF(E21="","",VLOOKUP(E21,'No.3 名簿'!meibo,3))
G22: =IF(A22="","",VLOOKUP(A22,'No.3 名簿'!meibo,4)) | H22: =IF(A22="","",VLOOKUP(A22,'No.3 名簿'!meibo,3)) | I22: =IF(B22="","",VLOOKUP(B22,'No.3 名簿'!meibo,4)) | J22: =IF(B22="","",VLOOKUP(B22,'No.3 名簿'!meibo,3)) | K22: =IF(C22="","",VLOOKUP(C22,'No.3 名簿'!meibo,4)) | L22: =IF(C22="","",VLOOKUP(C22,'No.3 名簿'!meibo,3)) | M22: =IF(D22="","",VLOOKUP(D22,'No.3 名簿'!meibo,4)) | N22: =IF(D22="","",VLOOKUP(D22,'No.3 名簿'!meibo,3)) | O22: =IF(E22="","",VLOOKUP(E22,'No.3 名簿'!meibo,4)) | P22: =IF(E22="","",VLOOKUP(E22,'No.3 名簿'!meibo,3))
A23: IDは「No.3 名簿」のIDを入力 | G23: ※団体、個人に出場する選手も可能
M24: 出場人数 | O24: =COUNT(A17:E22) -> 0 | P24: 人
A27: ◯ エキシビション フリー演技 | G27: ≪エキシビション フリー演技≫
G28: 演技タイトル | K28: 演技時間 | N28: ※3分以内です
A29: ID | G29: 選手名 | H29: 学年 | I29: 選手名 | J29: 学年 | K29: 選手名 | L29: 学年 | M29: 選手名 | N29: 学年 | O29: 選手名 | P29: 学年
G30: =IF(A30="","",VLOOKUP(A30,'No.3 名簿'!meibo,4)) | H30: =IF(A30="","",VLOOKUP(A30,'No.3 名簿'!meibo,3)) | I30: =IF(B30="","",VLOOKUP(B30,'No.3 名簿'!meibo,4)) | J30: =IF(B30="","",VLOOKUP(B30,'No.3 名簿'!meibo,3)) | K30: =IF(C30="","",VLOOKUP(C30,'No.3 名簿'!meibo,4)) | L30: =IF(C30="","",VLOOKUP(C30,'No.3 名簿'!meibo,3)) | M30: =IF(D30="","",VLOOKUP(D30,'No.3 名簿'!meibo,4)) | N30: =IF(D30="","",VLOOKUP(D30,'No.3 名簿'!meibo,3)) | O30: =IF(E30="","",VLOOKUP(E30,'No.3 名簿'!meibo,4)) | P30: =IF(E30="","",VLOOKUP(E30,'No.3 名簿'!meibo,3))
G31: =IF(A31="","",VLOOKUP(A31,'No.3 名簿'!meibo,4)) | H31: =IF(A31="","",VLOOKUP(A31,'No.3 名簿'!meibo,3)) | I31: =IF(B31="","",VLOOKUP(B31,'No.3 名簿'!meibo,4)) | J31: =IF(B31="","",VLOOKUP(B31,'No.3 名簿'!meibo,3)) | K31: =IF(C31="","",VLOOKUP(C31,'No.3 名簿'!meibo,4)) | L31: =IF(C31="","",VLOOKUP(C31,'No.3 名簿'!meibo,3)) | M31: =IF(D31="","",VLOOKUP(D31,'No.3 名簿'!meibo,4)) | N31: =IF(D31="","",VLOOKUP(D31,'No.3 名簿'!meibo,3)) | O31: =IF(E31="","",VLOOKUP(E31,'No.3 名簿'!meibo,4)) | P31: =IF(E31="","",VLOOKUP(E31,'No.3 名簿'!meibo,3))
G32: =IF(A32="","",VLOOKUP(A32,'No.3 名簿'!meibo,4)) | H32: =IF(A32="","",VLOOKUP(A32,'No.3 名簿'!meibo,3)) | I32: =IF(B32="","",VLOOKUP(B32,'No.3 名簿'!meibo,4)) | J32: =IF(B32="","",VLOOKUP(B32,'No.3 名簿'!meibo,3)) | K32: =IF(C32="","",VLOOKUP(C32,'No.3 名簿'!meibo,4)) | L32: =IF(C32="","",VLOOKUP(C32,'No.3 名簿'!meibo,3)) | M32: =IF(D32="","",VLOOKUP(D32,'No.3 名簿'!meibo,4)) | N32: =IF(D32="","",VLOOKUP(D32,'No.3 名簿'!meibo,3)) | O32: =IF(E32="","",VLOOKUP(E32,'No.3 名簿'!meibo,4)) | P32: =IF(E32="","",VLOOKUP(E32,'No.3 名簿'!meibo,3))
G33: =IF(A33="","",VLOOKUP(A33,'No.3 名簿'!meibo,4)) | H33: =IF(A33="","",VLOOKUP(A33,'No.3 名簿'!meibo,3)) | I33: =IF(B33="","",VLOOKUP(B33,'No.3 名簿'!meibo,4)) | J33: =IF(B33="","",VLOOKUP(B33,'No.3 名簿'!meibo,3)) | K33: =IF(C33="","",VLOOKUP(C33,'No.3 名簿'!meibo,4)) | L33: =IF(C33="","",VLOOKUP(C33,'No.3 名簿'!meibo,3)) | M33: =IF(D33="","",VLOOKUP(D33,'No.3 名簿'!meibo,4)) | N33: =IF(D33="","",VLOOKUP(D33,'No.3 名簿'!meibo,3)) | O33: =IF(E33="","",VLOOKUP(E33,'No.3 名簿'!meibo,4)) | P33: =IF(E33="","",VLOOKUP(E33,'No.3 名簿'!meibo,3))
G34: =IF(A34="","",VLOOKUP(A34,'No.3 名簿'!meibo,4)) | H34: =IF(A34="","",VLOOKUP(A34,'No.3 名簿'!meibo,3)) | I34: =IF(B34="","",VLOOKUP(B34,'No.3 名簿'!meibo,4)) | J34: =IF(B34="","",VLOOKUP(B34,'No.3 名簿'!meibo,3)) | K34: =IF(C34="","",VLOOKUP(C34,'No.3 名簿'!meibo,4)) | L34: =IF(C34="","",VLOOKUP(C34,'No.3 名簿'!meibo,3)) | M34: =IF(D34="","",VLOOKUP(D34,'No.3 名簿'!meibo,4)) | N34: =IF(D34="","",VLOOKUP(D34,'No.3 名簿'!meibo,3)) | O34: =IF(E34="","",VLOOKUP(E34,'No.3 名簿'!meibo,4)) | P34: =IF(E34="","",VLOOKUP(E34,'No.3 名簿'!meibo,3))
G35: =IF(A35="","",VLOOKUP(A35,'No.3 名簿'!meibo,4)) | H35: =IF(A35="","",VLOOKUP(A35,'No.3 名簿'!meibo,3)) | I35: =IF(B35="","",VLOOKUP(B35,'No.3 名簿'!meibo,4)) | J35: =IF(B35="","",VLOOKUP(B35,'No.3 名簿'!meibo,3)) | K35: =IF(C35="","",VLOOKUP(C35,'No.3 名簿'!meibo,4)) | L35: =IF(C35="","",VLOOKUP(C35,'No.3 名簿'!meibo,3)) | M35: =IF(D35="","",VLOOKUP(D35,'No.3 名簿'!meibo,4)) | N35: =IF(D35="","",VLOOKUP(D35,'No.3 名簿'!meibo,3)) | O35: =IF(E35="","",VLOOKUP(E35,'No.3 名簿'!meibo,4)) | P35: =IF(E35="","",VLOOKUP(E35,'No.3 名簿'!meibo,3))
A36: IDは「No.3 名簿」のIDを入力 | G36: ※団体、個人に出場する選手も可能
M37: 出場人数 | O37: =COUNT(A30:E35) -> 0 | P37: 人
M39: 合計出場人数 | O39: =O37+O24+O12 -> 0 | P39: 人

Sheet No.7 参加費用
A1: 第2回 M’s CUP 新体操競技会 No.7 参加費用
B4: クラブ名 | D4: ='No.1 申込書'!E4 -> 0
B5: エキシビション 1演技1 人 1,000 円 | E5: ='No.6 エキシビション'!O39 -> 0 | F5: 人 | G5: =1000*E5 -> 0
B6: 個人競技 1 種目 2,000 円 | E6: ='No.4 個人'!H40 -> 0 | F6: 種目 | G6: =2000*E6 -> 0
B7: 団体競技 1 チーム 10,000 円 | E7: ='No.5 団体'!J62 -> 0 | F7: チーム | G7: =10000*E7 -> 0
B8: 審判協力負担金 １日 5,000 円 | E8: =IF('No.2 審判'!E3="",0,VLOOKUP('No.2 審判'!E3,データ※編集不可!L1:M3,2,0)) -> 0 | F8: 日 | G8: =5000*E8 -> 0
B9: 参加費合計金額 | E9: =SUM(G5:G8) -> 0
B11: ① 締め切り 令和８年 1２月１日（火） １７：００
B12: ② 振込先 | C12: 佐賀銀行 水ヶ江支店 普通預金 1753926
C13: 佐賀市体操協会 会長 渡瀬浩介

Sheet データ※編集不可
A1: チャイルド | B1: チャイルド | C1: ジュニア | D1: シニア | E1: 徒手 | F1: 小1 | G1: 小5 | H1: 小4 | I1: 中3 | J1: 両日 | K1: 国際 | L1: 帯同審判員 あり | M1: 0
A2: ジュニア | B2: 小1 | C2: 小4 | D2: 中3 | E2: フープ | F2: 小2 | G2: 小6 | H2: 小5 | I2: 高1 | J2: 46393 | K2: 1種(カテゴリーⅠ) | L2: 帯同審判員 なし（１日） | M2: 1
A3: シニア | B3: 小2 | C3: 小5 | D3: 高1 | E3: ボール | F3: 小3 | G3: 中1 | H3: 小6 | I3: 高2 | J3: 46394 | K3: 1種(カテゴリーⅡ) | L3: 帯同審判員 なし（２日） | M3: 2
B4: 小3 | C4: 小6 | D4: 高2 | E4: クラブ | F4: 小4 | G4: 中2 | H4: 中1 | I4: 高3 | K4: 1種
B5: 小4 | C5: 中1 | D5: 高3 | E5: リボン | F5: 小5 | G5: 中3 | H5: 中2 | K5: 2種
B6: 小5 | C6: 中2 | D6: 大1 | F6: 小6 | G6: 高1 | H6: 中3 | K6: 3種 | R6: こちらのデータは 編集しないでください！！
B7: 小6 | C7: 中3 | D7: 大2 | G7: 高2 | H7: 高1 | K7: 無資格
D8: 大3 | G8: 高3
D9: 大4 | G9: 大1
G10: 大2
G11: 大3
G12: 大4

Sheet 管理用※編集不可
B1: 大会申込み
B2: クラブ名 | C2: 代表者 | D2: 郵便番号 | E2: 住所 | F2: 携帯番号 | G2: メールアドレス | J2: No | K2: ID | M2: 属性 | N2: 種目 | O2: 名前 | P2: クラブ名 | Q2: ふりがな | R2: 学年
B3: ='No.1 申込書'!E4 -> 0 | C3: ='No.1 申込書'!E5 -> 0 | D3: ='No.1 申込書'!E6 -> 0 | E3: ='No.1 申込書'!E7 -> 0 | F3: ='No.1 申込書'!E8 -> 0 | G3: ='No.1 申込書'!E9 -> 0 | J3: 1 | K3: =IF('No.4 個人'!C5="","",'No.4 個人'!C5) | L3: =IF($K3="","","個人") | M3: =IF($K3="","",VLOOKUP($K3,'No.3 名簿'!meibo,2)) | N3: ='No.4 個人'!F5 | O3: =IF($K3="","",VLOOKUP($K3,'No.3 名簿'!meibo,4)) | P3: =IF($K3="","",$B$3) | Q3: =IF($K3="","",VLOOKUP($K3,'No.3 名簿'!meibo,5)) | R3: =IF($K3="","",VLOOKUP($K3,'No.3 名簿'!meibo,3))
J4: 2 | K4: =IF('No.4 個人'!C6="","",'No.4 個人'!C6) | L4: =IF($K4="","","個人") | M4: =IF($K4="","",VLOOKUP($K4,'No.3 名簿'!meibo,2)) | N4: ='No.4 個人'!F6 | O4: =IF($K4="","",VLOOKUP($K4,'No.3 名簿'!meibo,4)) | P4: =IF($K4="","",$B$3) | Q4: =IF($K4="","",VLOOKUP($K4,'No.3 名簿'!meibo,5)) | R4: =IF($K4="","",VLOOKUP($K4,'No.3 名簿'!meibo,3))
B5: 審判員 | J5: 3 | K5: =IF('No.4 個人'!C7="","",'No.4 個人'!C7) | L5: =IF($K5="","","個人") | M5: =IF($K5="","",VLOOKUP($K5,'No.3 名簿'!meibo,2)) | N5: ='No.4 個人'!F7 | O5: =IF($K5="","",VLOOKUP($K5,'No.3 名簿'!meibo,4)) | P5: =IF($K5="","",$B$3) | Q5: =IF($K5="","",VLOOKUP($K5,'No.3 名簿'!meibo,5)) | R5: =IF($K5="","",VLOOKUP($K5,'No.3 名簿'!meibo,3))
B6: クラブ名 | C6: 氏名 | D6: 派遣日 | E6: 審判資格 | F6: 携帯番号 | G6: メールアドレス | H6: その他 | J6: 4 | K6: =IF('No.4 個人'!C8="","",'No.4 個人'!C8) | L6: =IF($K6="","","個人") | M6: =IF($K6="","",VLOOKUP($K6,'No.3 名簿'!meibo,2)) | N6: ='No.4 個人'!F8 | O6: =IF($K6="","",VLOOKUP($K6,'No.3 名簿'!meibo,4)) | P6: =IF($K6="","",$B$3) | Q6: =IF($K6="","",VLOOKUP($K6,'No.3 名簿'!meibo,5)) | R6: =IF($K6="","",VLOOKUP($K6,'No.3 名簿'!meibo,3))
B7: =IF('No.2 審判'!E6="","",'No.1 申込書'!E4) | C7: =IF($B7="","",'No.2 審判'!E6) | D7: =IF($B7="","",'No.2 審判'!E5) | E7: =IF($B7="","",'No.2 審判'!E9) | F7: =IF($B7="","",'No.2 審判'!E7) | G7: =IF($B7="","",'No.2 審判'!E8) | H7: =IF($B7="","",'No.2 審判'!E10) | J7: 5 | K7: =IF('No.4 個人'!C9="","",'No.4 個人'!C9) | L7: =IF($K7="","","個人") | M7: =IF($K7="","",VLOOKUP($K7,'No.3 名簿'!meibo,2)) | N7: ='No.4 個人'!F9 | O7: =IF($K7="","",VLOOKUP($K7,'No.3 名簿'!meibo,4)) | P7: =IF($K7="","",$B$3) | Q7: =IF($K7="","",VLOOKUP($K7,'No.3 名簿'!meibo,5)) | R7: =IF($K7="","",VLOOKUP($K7,'No.3 名簿'!meibo,3))
B8: =IF('No.2 審判'!E13="","",'No.1 申込書'!E4) | C8: =IF($B8="","",'No.2 審判'!E13) | D8: =IF($B8="","",'No.2 審判'!E12) | E8: =IF($B8="","",'No.2 審判'!E16) | F8: =IF($B8="","",'No.2 審判'!E14) | G8: =IF($B8="","",'No.2 審判'!E15) | H8: =IF($B8="","",'No.2 審判'!E17) | J8: 6 | K8: =IF('No.4 個人'!C10="","",'No.4 個人'!C10) | L8: =IF($K8="","","個人") | M8: =IF($K8="","",VLOOKUP($K8,'No.3 名簿'!meibo,2)) | N8: ='No.4 個人'!F10 | O8: =IF($K8="","",VLOOKUP($K8,'No.3 名簿'!meibo,4)) | P8: =IF($K8="","",$B$3) | Q8: =IF($K8="","",VLOOKUP($K8,'No.3 名簿'!meibo,5)) | R8: =IF($K8="","",VLOOKUP($K8,'No.3 名簿'!meibo,3))
J9: 7 | K9: =IF('No.4 個人'!C11="","",'No.4 個人'!C11) | L9: =IF($K9="","","個人") | M9: =IF($K9="","",VLOOKUP($K9,'No.3 名簿'!meibo,2)) | N9: ='No.4 個人'!F11 | O9: =IF($K9="","",VLOOKUP($K9,'No.3 名簿'!meibo,4)) | P9: =IF($K9="","",$B$3) | Q9: =IF($K9="","",VLOOKUP($K9,'No.3 名簿'!meibo,5)) | R9: =IF($K9="","",VLOOKUP($K9,'No.3 名簿'!meibo,3))
B10: 団体 | J10: 8 | K10: =IF('No.4 個人'!C12="","",'No.4 個人'!C12) | L10: =IF($K10="","","個人") | M10: =IF($K10="","",VLOOKUP($K10,'No.3 名簿'!meibo,2)) | N10: ='No.4 個人'!F12 | O10: =IF($K10="","",VLOOKUP($K10,'No.3 名簿'!meibo,4)) | P10: =IF($K10="","",$B$3) | Q10: =IF($K10="","",VLOOKUP($K10,'No.3 名簿'!meibo,5)) | R10: =IF($K10="","",VLOOKUP($K10,'No.3 名簿'!meibo,3))
B11: カテゴリー・種目 | C11: 団体チーム名 | D11: 選手名 | E11: 学年 | F11: 選手名 | G11: 学年 | J11: 1 | K11: =IF('No.4 個人'!C17="","",'No.4 個人'!C17) | L11: =IF($K11="","","個人") | M11: =IF($K11="","",VLOOKUP($K11,'No.3 名簿'!meibo,2)) | N11: ='No.4 個人'!F17 | O11: =IF($K11="","",VLOOKUP($K11,'No.3 名簿'!meibo,4)) | P11: =IF($K11="","",$B$3) | Q11: =IF($K11="","",VLOOKUP($K11,'No.3 名簿'!meibo,5)) | R11: =IF($K11="","",VLOOKUP($K11,'No.3 名簿'!meibo,3))
B12: =M27&"/"&N27 -> チャイルド/徒手×ロープ | C12: =IF('No.5 団体'!H3="","",'No.5 団体'!H3) | D12: ='No.5 団体'!G5 | E12: ='No.5 団体'!H5 | F12: ='No.5 団体'!J5 | G12: ='No.5 団体'!K5 | J12: 2 | K12: =IF('No.4 個人'!C18="","",'No.4 個人'!C18) | L12: =IF($K12="","","個人") | M12: =IF($K12="","",VLOOKUP($K12,'No.3 名簿'!meibo,2)) | N12: ='No.4 個人'!F18 | O12: =IF($K12="","",VLOOKUP($K12,'No.3 名簿'!meibo,4)) | P12: =IF($K12="","",$B$3) | Q12: =IF($K12="","",VLOOKUP($K12,'No.3 名簿'!meibo,5)) | R12: =IF($K12="","",VLOOKUP($K12,'No.3 名簿'!meibo,3))
B13: ① | C13: クラブ名 | D13: ='No.5 団体'!G6 | E13: ='No.5 団体'!H6 | F13: ='No.5 団体'!J6 | G13: ='No.5 団体'!K6 | J13: 3 | K13: =IF('No.4 個人'!C19="","",'No.4 個人'!C19) | L13: =IF($K13="","","個人") | M13: =IF($K13="","",VLOOKUP($K13,'No.3 名簿'!meibo,2)) | N13: ='No.4 個人'!F19 | O13: =IF($K13="","",VLOOKUP($K13,'No.3 名簿'!meibo,4)) | P13: =IF($K13="","",$B$3) | Q13: =IF($K13="","",VLOOKUP($K13,'No.3 名簿'!meibo,5)) | R13: =IF($K13="","",VLOOKUP($K13,'No.3 名簿'!meibo,3))
C14: =IF(C12="","",$B$3) | D14: ='No.5 団体'!G7 | E14: ='No.5 団体'!H7 | J14: 4 | K14: =IF('No.4 個人'!C20="","",'No.4 個人'!C20) | L14: =IF($K14="","","個人") | M14: =IF($K14="","",VLOOKUP($K14,'No.3 名簿'!meibo,2)) | N14: ='No.4 個人'!F20 | O14: =IF($K14="","",VLOOKUP($K14,'No.3 名簿'!meibo,4)) | P14: =IF($K14="","",$B$3) | Q14: =IF($K14="","",VLOOKUP($K14,'No.3 名簿'!meibo,5)) | R14: =IF($K14="","",VLOOKUP($K14,'No.3 名簿'!meibo,3))
D15: ='No.5 団体'!G8 | E15: ='No.5 団体'!H8 | F15: ='No.5 団体'!J8 | G15: ='No.5 団体'!K8 | J15: 5 | K15: =IF('No.4 個人'!C21="","",'No.4 個人'!C21) | L15: =IF($K15="","","個人") | M15: =IF($K15="","",VLOOKUP($K15,'No.3 名簿'!meibo,2)) | N15: ='No.4 個人'!F21 | O15: =IF($K15="","",VLOOKUP($K15,'No.3 名簿'!meibo,4)) | P15: =IF($K15="","",$B$3) | Q15: =IF($K15="","",VLOOKUP($K15,'No.3 名簿'!meibo,5)) | R15: =IF($K15="","",VLOOKUP($K15,'No.3 名簿'!meibo,3))
J16: 6 | K16: =IF('No.4 個人'!C22="","",'No.4 個人'!C22) | L16: =IF($K16="","","個人") | M16: =IF($K16="","",VLOOKUP($K16,'No.3 名簿'!meibo,2)) | N16: ='No.4 個人'!F22 | O16: =IF($K16="","",VLOOKUP($K16,'No.3 名簿'!meibo,4)) | P16: =IF($K16="","",$B$3) | Q16: =IF($K16="","",VLOOKUP($K16,'No.3 名簿'!meibo,5)) | R16: =IF($K16="","",VLOOKUP($K16,'No.3 名簿'!meibo,3))
B17: カテゴリー・種目 | C17: 団体チーム名 | D17: 選手名 | E17: 学年 | F17: 選手名 | G17: 学年 | J17: 7 | K17: =IF('No.4 個人'!C23="","",'No.4 個人'!C23) | L17: =IF($K17="","","個人") | M17: =IF($K17="","",VLOOKUP($K17,'No.3 名簿'!meibo,2)) | N17: ='No.4 個人'!F23 | O17: =IF($K17="","",VLOOKUP($K17,'No.3 名簿'!meibo,4)) | P17: =IF($K17="","",$B$3) | Q17: =IF($K17="","",VLOOKUP($K17,'No.3 名簿'!meibo,5)) | R17: =IF($K17="","",VLOOKUP($K17,'No.3 名簿'!meibo,3))
B18: =B12 -> チャイルド/徒手×ロープ | C18: =IF('No.5 団体'!H10="","",'No.5 団体'!H10) | D18: ='No.5 団体'!G12 | E18: ='No.5 団体'!H12 | F18: ='No.5 団体'!J12 | G18: ='No.5 団体'!K12 | J18: 8 | K18: =IF('No.4 個人'!C24="","",'No.4 個人'!C24) | L18: =IF($K18="","","個人") | M18: =IF($K18="","",VLOOKUP($K18,'No.3 名簿'!meibo,2)) | N18: ='No.4 個人'!F24 | O18: =IF($K18="","",VLOOKUP($K18,'No.3 名簿'!meibo,4)) | P18: =IF($K18="","",$B$3) | Q18: =IF($K18="","",VLOOKUP($K18,'No.3 名簿'!meibo,5)) | R18: =IF($K18="","",VLOOKUP($K18,'No.3 名簿'!meibo,3))
B19: ② | C19: クラブ名 | D19: ='No.5 団体'!G13 | E19: ='No.5 団体'!H13 | F19: ='No.5 団体'!J13 | G19: ='No.5 団体'!K13 | J19: 1 | K19: =IF('No.4 個人'!C29="","",'No.4 個人'!C29) | L19: =IF($K19="","","個人") | M19: =IF($K19="","",VLOOKUP($K19,'No.3 名簿'!meibo,2)) | N19: ='No.4 個人'!F29 | O19: =IF($K19="","",VLOOKUP($K19,'No.3 名簿'!meibo,4)) | P19: =IF($K19="","",$B$3) | Q19: =IF($K19="","",VLOOKUP($K19,'No.3 名簿'!meibo,5)) | R19: =IF($K19="","",VLOOKUP($K19,'No.3 名簿'!meibo,3))
C20: =IF(C18="","",$B$3) | D20: ='No.5 団体'!G14 | E20: ='No.5 団体'!H14 | J20: 2 | K20: =IF('No.4 個人'!C30="","",'No.4 個人'!C30) | L20: =IF($K20="","","個人") | M20: =IF($K20="","",VLOOKUP($K20,'No.3 名簿'!meibo,2)) | N20: ='No.4 個人'!F30 | O20: =IF($K20="","",VLOOKUP($K20,'No.3 名簿'!meibo,4)) | P20: =IF($K20="","",$B$3) | Q20: =IF($K20="","",VLOOKUP($K20,'No.3 名簿'!meibo,5)) | R20: =IF($K20="","",VLOOKUP($K20,'No.3 名簿'!meibo,3))
D21: ='No.5 団体'!G15 | E21: ='No.5 団体'!H15 | F21: ='No.5 団体'!J15 | G21: ='No.5 団体'!K15 | J21: 3 | K21: =IF('No.4 個人'!C31="","",'No.4 個人'!C31) | L21: =IF($K21="","","個人") | M21: =IF($K21="","",VLOOKUP($K21,'No.3 名簿'!meibo,2)) | N21: ='No.4 個人'!F31 | O21: =IF($K21="","",VLOOKUP($K21,'No.3 名簿'!meibo,4)) | P21: =IF($K21="","",$B$3) | Q21: =IF($K21="","",VLOOKUP($K21,'No.3 名簿'!meibo,5)) | R21: =IF($K21="","",VLOOKUP($K21,'No.3 名簿'!meibo,3))
J22: 4 | K22: =IF('No.4 個人'!C32="","",'No.4 個人'!C32) | L22: =IF($K22="","","個人") | M22: =IF($K22="","",VLOOKUP($K22,'No.3 名簿'!meibo,2)) | N22: ='No.4 個人'!F32 | O22: =IF($K22="","",VLOOKUP($K22,'No.3 名簿'!meibo,4)) | P22: =IF($K22="","",$B$3) | Q22: =IF($K22="","",VLOOKUP($K22,'No.3 名簿'!meibo,5)) | R22: =IF($K22="","",VLOOKUP($K22,'No.3 名簿'!meibo,3))
B23: カテゴリー・種目 | C23: 団体チーム名 | D23: 選手名 | E23: 学年 | F23: 選手名 | G23: 学年 | J23: 5 | K23: =IF('No.4 個人'!C33="","",'No.4 個人'!C33) | L23: =IF($K23="","","個人") | M23: =IF($K23="","",VLOOKUP($K23,'No.3 名簿'!meibo,2)) | N23: ='No.4 個人'!F33 | O23: =IF($K23="","",VLOOKUP($K23,'No.3 名簿'!meibo,4)) | P23: =IF($K23="","",$B$3) | Q23: =IF($K23="","",VLOOKUP($K23,'No.3 名簿'!meibo,5)) | R23: =IF($K23="","",VLOOKUP($K23,'No.3 名簿'!meibo,3))
B24: =M29&"/"&N29 -> チャイルド/徒手 | C24: =IF('No.5 団体'!H18="","",'No.5 団体'!H18) | D24: ='No.5 団体'!G20 | E24: ='No.5 団体'!H20 | F24: ='No.5 団体'!J20 | G24: ='No.5 団体'!K20 | J24: 6 | K24: =IF('No.4 個人'!C34="","",'No.4 個人'!C34) | L24: =IF($K24="","","個人") | M24: =IF($K24="","",VLOOKUP($K24,'No.3 名簿'!meibo,2)) | N24: ='No.4 個人'!F34 | O24: =IF($K24="","",VLOOKUP($K24,'No.3 名簿'!meibo,4)) | P24: =IF($K24="","",$B$3) | Q24: =IF($K24="","",VLOOKUP($K24,'No.3 名簿'!meibo,5)) | R24: =IF($K24="","",VLOOKUP($K24,'No.3 名簿'!meibo,3))
B25: ① | C25: クラブ名 | D25: ='No.5 団体'!G21 | E25: ='No.5 団体'!H21 | F25: ='No.5 団体'!J21 | G25: ='No.5 団体'!K21 | J25: 7 | K25: =IF('No.4 個人'!C35="","",'No.4 個人'!C35) | L25: =IF($K25="","","個人") | M25: =IF($K25="","",VLOOKUP($K25,'No.3 名簿'!meibo,2)) | N25: ='No.4 個人'!F35 | O25: =IF($K25="","",VLOOKUP($K25,'No.3 名簿'!meibo,4)) | P25: =IF($K25="","",$B$3) | Q25: =IF($K25="","",VLOOKUP($K25,'No.3 名簿'!meibo,5)) | R25: =IF($K25="","",VLOOKUP($K25,'No.3 名簿'!meibo,3))
C26: =IF(C24="","",$B$3) | D26: ='No.5 団体'!G22 | E26: ='No.5 団体'!H22 | J26: 8 | K26: =IF('No.4 個人'!C36="","",'No.4 個人'!C36) | L26: =IF($K26="","","個人") | M26: =IF($K26="","",VLOOKUP($K26,'No.3 名簿'!meibo,2)) | N26: ='No.4 個人'!F36 | O26: =IF($K26="","",VLOOKUP($K26,'No.3 名簿'!meibo,4)) | P26: =IF($K26="","",$B$3) | Q26: =IF($K26="","",VLOOKUP($K26,'No.3 名簿'!meibo,5)) | R26: =IF($K26="","",VLOOKUP($K26,'No.3 名簿'!meibo,3))
D27: ='No.5 団体'!G23 | E27: ='No.5 団体'!H23 | F27: ='No.5 団体'!J23 | G27: ='No.5 団体'!K23 | J27: 1 | L27: 団体 | M27: チャイルド | N27: 徒手×ロープ | O27: =IF('No.5 団体'!H3="","",'No.5 団体'!H3) | P27: =IF($O27="","",$B$3)
J28: 2 | L28: 団体 | M28: チャイルド | N28: 徒手×ロープ | O28: =IF('No.5 団体'!H10="","",'No.5 団体'!H10) | P28: =IF($O28="","",$B$3)
B29: カテゴリー・種目 | C29: 団体チーム名 | D29: 選手名 | E29: 学年 | F29: 選手名 | G29: 学年 | J29: 3 | L29: 団体 | M29: チャイルド | N29: 徒手 | O29: =IF('No.5 団体'!H18="","",'No.5 団体'!H18) | P29: =IF($O29="","",$B$3)
B30: =B24 -> チャイルド/徒手 | C30: =IF('No.5 団体'!H25="","",'No.5 団体'!H25) | D30: ='No.5 団体'!G27 | E30: ='No.5 団体'!H27 | F30: ='No.5 団体'!J27 | G30: ='No.5 団体'!K27 | J30: 4 | L30: 団体 | M30: チャイルド | N30: 徒手 | O30: =IF('No.5 団体'!H25="","",'No.5 団体'!H25) | P30: =IF($O30="","",$B$3)
B31: ② | C31: クラブ名 | D31: ='No.5 団体'!G28 | E31: ='No.5 団体'!H28 | F31: ='No.5 団体'!J28 | G31: ='No.5 団体'!K28 | J31: 5 | L31: 団体 | M31: ジュニア | N31: リボン5 | O31: =IF('No.5 団体'!H33="","",'No.5 団体'!H33) | P31: =IF($O31="","",$B$3)
C32: =IF(C30="","",$B$3) | D32: ='No.5 団体'!G29 | E32: ='No.5 団体'!H29 | J32: 6 | L32: 団体 | M32: ジュニア | N32: リボン5 | O32: =IF('No.5 団体'!H40="","",'No.5 団体'!H40) | P32: =IF($O32="","",$B$3)
D33: ='No.5 団体'!G30 | E33: ='No.5 団体'!H30 | F33: ='No.5 団体'!J30 | G33: ='No.5 団体'!K30 | J33: 7 | L33: 団体 | M33: シニア | N33: ボール5 | O33: =IF('No.5 団体'!H48="","",'No.5 団体'!H48) | P33: =IF($O33="","",$B$3)
J34: 8 | L34: 団体 | M34: シニア | N34: ボール5 | O34: =IF('No.5 団体'!H55="","",'No.5 団体'!H55) | P34: =IF($O34="","",$B$3)
B35: カテゴリー・種目 | C35: 団体チーム名 | D35: 選手名 | E35: 学年 | F35: 選手名 | G35: 学年 | J35: 1 | L35: エキシビジョン | M35: =IF('No.6 エキシビション'!$H$3="","","フリー演技") | N35: =IF('No.6 エキシビション'!$H$3="","","自由") | O35: =IF('No.6 エキシビション'!$H$3="","",'No.6 エキシビション'!$H$3) | P35: =IF($O35="","",$B$3)
B36: =M31&"/"&N31 -> ジュニア/リボン5 | C36: =IF('No.5 団体'!H33="","",'No.5 団体'!H33) | D36: ='No.5 団体'!G35 | E36: ='No.5 団体'!H35 | F36: ='No.5 団体'!J35 | G36: ='No.5 団体'!K35 | J36: 2 | L36: エキシビジョン | M36: =IF('No.6 エキシビション'!$H$15="","","フリー演技") | N36: =IF('No.6 エキシビション'!$H$15="","","自由") | O36: =IF('No.6 エキシビション'!$H$15="","",'No.6 エキシビション'!$H$15) | P36: =IF($O36="","",$B$3)
B37: ① | C37: クラブ名 | D37: ='No.5 団体'!G36 | E37: ='No.5 団体'!H36 | F37: ='No.5 団体'!J36 | G37: ='No.5 団体'!K36 | J37: 3 | L37: エキシビジョン | M37: =IF('No.6 エキシビション'!$H$28="","","フリー演技") | N37: =IF('No.6 エキシビション'!$H$28="","","自由") | O37: =IF('No.6 エキシビション'!$H$28="","",'No.6 エキシビション'!$H$28) | P37: =IF($O37="","",$B$3)
C38: =IF(C36="","",$B$3) | D38: ='No.5 団体'!G37 | E38: ='No.5 団体'!H37
D39: ='No.5 団体'!G38 | E39: ='No.5 団体'!H38 | F39: ='No.5 団体'!J38 | G39: ='No.5 団体'!K38
B41: カテゴリー・種目 | C41: 団体チーム名 | D41: 選手名 | E41: 学年 | F41: 選手名 | G41: 学年
B42: =B36 -> ジュニア/リボン5 | C42: =IF('No.5 団体'!H40="","",'No.5 団体'!H40) | D42: ='No.5 団体'!G42 | E42: ='No.5 団体'!H42 | F42: ='No.5 団体'!J42 | G42: ='No.5 団体'!K42
B43: ② | C43: クラブ名 | D43: ='No.5 団体'!G43 | E43: ='No.5 団体'!H43 | F43: ='No.5 団体'!J43 | G43: ='No.5 団体'!K43
C44: =IF(C42="","",$B$3) | D44: ='No.5 団体'!G44 | E44: ='No.5 団体'!H44
D45: ='No.5 団体'!G45 | E45: ='No.5 団体'!H45 | F45: ='No.5 団体'!J45 | G45: ='No.5 団体'!K45
B47: カテゴリー・種目 | C47: 団体チーム名 | D47: 選手名 | E47: 学年 | F47: 選手名 | G47: 学年
B48: =M33&"/"&N33 -> シニア/ボール5 | C48: =IF('No.5 団体'!H48="","",'No.5 団体'!H48) | D48: ='No.5 団体'!G50 | E48: ='No.5 団体'!H50 | F48: ='No.5 団体'!J50 | G48: ='No.5 団体'!K50
B49: ① | C49: クラブ名 | D49: ='No.5 団体'!G51 | E49: ='No.5 団体'!H51 | F49: ='No.5 団体'!J51 | G49: ='No.5 団体'!K51
C50: =IF(C48="","",$B$3) | D50: ='No.5 団体'!G52 | E50: ='No.5 団体'!H52
D51: ='No.5 団体'!G53 | E51: ='No.5 団体'!H53 | F51: ='No.5 団体'!J53 | G51: ='No.5 団体'!K53
B53: カテゴリー・種目 | C53: 団体チーム名 | D53: 選手名 | E53: 学年 | F53: 選手名 | G53: 学年
B54: =B48 -> シニア/ボール5 | C54: =IF('No.5 団体'!H55="","",'No.5 団体'!H55) | D54: ='No.5 団体'!G57 | E54: ='No.5 団体'!H57 | F54: ='No.5 団体'!J57 | G54: ='No.5 団体'!K57
B55: ② | C55: クラブ名 | D55: ='No.5 団体'!G58 | E55: ='No.5 団体'!H58 | F55: ='No.5 団体'!J58 | G55: ='No.5 団体'!K58
C56: =IF(C54="","",$B$3) | D56: ='No.5 団体'!G59 | E56: ='No.5 団体'!H59
D57: ='No.5 団体'!G60 | E57: ='No.5 団体'!H60 | F57: ='No.5 団体'!J60 | G57: ='No.5 団体'!K60
B59: エキシビジョン
B60: 演技タイトル | C60: 演技時間
B61: =IF('No.6 エキシビション'!$H$3="","",'No.6 エキシビション'!$H$3) | C61: =IF('No.6 エキシビション'!$H$3="","",'No.6 エキシビション'!$L$3)
B62: 選手名 | C62: 学年 | D62: 選手名 | E62: 学年 | F62: 選手名 | G62: 学年 | J62: ID
B63: =IF(J63=0,"",VLOOKUP(J63,'No.3 名簿'!meibo,4)) | C63: =IF(J63=0,"",VLOOKUP(J63,'No.3 名簿'!meibo,3)) | D63: =IF(K63=0,"",VLOOKUP(K63,'No.3 名簿'!meibo,4)) | E63: =IF(K63=0,"",VLOOKUP(K63,'No.3 名簿'!meibo,3)) | F63: =IF(L63=0,"",VLOOKUP(L63,'No.3 名簿'!meibo,4)) | G63: =IF(L63=0,"",VLOOKUP(L63,'No.3 名簿'!meibo,3)) | J63: ='No.6 エキシビション'!A5 -> 0 | K63: ='No.6 エキシビション'!B5 -> 0 | L63: ='No.6 エキシビション'!C5 -> 0
B64: =IF(J64=0,"",VLOOKUP(J64,'No.3 名簿'!meibo,4)) | C64: =IF(J64=0,"",VLOOKUP(J64,'No.3 名簿'!meibo,3)) | D64: =IF(K64=0,"",VLOOKUP(K64,'No.3 名簿'!meibo,4)) | E64: =IF(K64=0,"",VLOOKUP(K64,'No.3 名簿'!meibo,3)) | F64: =IF(L64=0,"",VLOOKUP(L64,'No.3 名簿'!meibo,4)) | G64: =IF(L64=0,"",VLOOKUP(L64,'No.3 名簿'!meibo,3)) | J64: ='No.6 エキシビション'!D5 -> 0 | K64: ='No.6 エキシビション'!E5 -> 0 | L64: ='No.6 エキシビション'!A6 -> 0
B65: =IF(J65=0,"",VLOOKUP(J65,'No.3 名簿'!meibo,4)) | C65: =IF(J65=0,"",VLOOKUP(J65,'No.3 名簿'!meibo,3)) | D65: =IF(K65=0,"",VLOOKUP(K65,'No.3 名簿'!meibo,4)) | E65: =IF(K65=0,"",VLOOKUP(K65,'No.3 名簿'!meibo,3)) | F65: =IF(L65=0,"",VLOOKUP(L65,'No.3 名簿'!meibo,4)) | G65: =IF(L65=0,"",VLOOKUP(L65,'No.3 名簿'!meibo,3)) | J65: ='No.6 エキシビション'!B6 -> 0 | K65: ='No.6 エキシビション'!C6 -> 0 | L65: ='No.6 エキシビション'!D6 -> 0
B66: =IF(J66=0,"",VLOOKUP(J66,'No.3 名簿'!meibo,4)) | C66: =IF(J66=0,"",VLOOKUP(J66,'No.3 名簿'!meibo,3)) | D66: =IF(K66=0,"",VLOOKUP(K66,'No.3 名簿'!meibo,4)) | E66: =IF(K66=0,"",VLOOKUP(K66,'No.3 名簿'!meibo,3)) | F66: =IF(L66=0,"",VLOOKUP(L66,'No.3 名簿'!meibo,4)) | G66: =IF(L66=0,"",VLOOKUP(L66,'No.3 名簿'!meibo,3)) | J66: ='No.6 エキシビション'!E6 -> 0 | K66: ='No.6 エキシビション'!A7 -> 0 | L66: ='No.6 エキシビション'!B7 -> 0
B67: =IF(J67=0,"",VLOOKUP(J67,'No.3 名簿'!meibo,4)) | C67: =IF(J67=0,"",VLOOKUP(J67,'No.3 名簿'!meibo,3)) | D67: =IF(K67=0,"",VLOOKUP(K67,'No.3 名簿'!meibo,4)) | E67: =IF(K67=0,"",VLOOKUP(K67,'No.3 名簿'!meibo,3)) | F67: =IF(L67=0,"",VLOOKUP(L67,'No.3 名簿'!meibo,4)) | G67: =IF(L67=0,"",VLOOKUP(L67,'No.3 名簿'!meibo,3)) | J67: ='No.6 エキシビション'!C7 -> 0 | K67: ='No.6 エキシビション'!D7 -> 0 | L67: ='No.6 エキシビション'!E7 -> 0
B68: =IF(J68=0,"",VLOOKUP(J68,'No.3 名簿'!meibo,4)) | C68: =IF(J68=0,"",VLOOKUP(J68,'No.3 名簿'!meibo,3)) | D68: =IF(K68=0,"",VLOOKUP(K68,'No.3 名簿'!meibo,4)) | E68: =IF(K68=0,"",VLOOKUP(K68,'No.3 名簿'!meibo,3)) | F68: =IF(L68=0,"",VLOOKUP(L68,'No.3 名簿'!meibo,4)) | G68: =IF(L68=0,"",VLOOKUP(L68,'No.3 名簿'!meibo,3)) | J68: ='No.6 エキシビション'!A8 -> 0 | K68: ='No.6 エキシビション'!B8 -> 0 | L68: ='No.6 エキシビション'!C8 -> 0
B69: =IF(J69=0,"",VLOOKUP(J69,'No.3 名簿'!meibo,4)) | C69: =IF(J69=0,"",VLOOKUP(J69,'No.3 名簿'!meibo,3)) | D69: =IF(K69=0,"",VLOOKUP(K69,'No.3 名簿'!meibo,4)) | E69: =IF(K69=0,"",VLOOKUP(K69,'No.3 名簿'!meibo,3)) | F69: =IF(L69=0,"",VLOOKUP(L69,'No.3 名簿'!meibo,4)) | G69: =IF(L69=0,"",VLOOKUP(L69,'No.3 名簿'!meibo,3)) | J69: ='No.6 エキシビション'!D8 -> 0 | K69: ='No.6 エキシビション'!E8 -> 0 | L69: ='No.6 エキシビション'!A9 -> 0
B70: =IF(J70=0,"",VLOOKUP(J70,'No.3 名簿'!meibo,4)) | C70: =IF(J70=0,"",VLOOKUP(J70,'No.3 名簿'!meibo,3)) | D70: =IF(K70=0,"",VLOOKUP(K70,'No.3 名簿'!meibo,4)) | E70: =IF(K70=0,"",VLOOKUP(K70,'No.3 名簿'!meibo,3)) | F70: =IF(L70=0,"",VLOOKUP(L70,'No.3 名簿'!meibo,4)) | G70: =IF(L70=0,"",VLOOKUP(L70,'No.3 名簿'!meibo,3)) | J70: ='No.6 エキシビション'!B9 -> 0 | K70: ='No.6 エキシビション'!C9 -> 0 | L70: ='No.6 エキシビション'!D9 -> 0
B71: =IF(J71=0,"",VLOOKUP(J71,'No.3 名簿'!meibo,4)) | C71: =IF(J71=0,"",VLOOKUP(J71,'No.3 名簿'!meibo,3)) | D71: =IF(K71=0,"",VLOOKUP(K71,'No.3 名簿'!meibo,4)) | E71: =IF(K71=0,"",VLOOKUP(K71,'No.3 名簿'!meibo,3)) | F71: =IF(L71=0,"",VLOOKUP(L71,'No.3 名簿'!meibo,4)) | G71: =IF(L71=0,"",VLOOKUP(L71,'No.3 名簿'!meibo,3)) | J71: ='No.6 エキシビション'!E9 -> 0 | K71: ='No.6 エキシビション'!A10 -> 0 | L71: ='No.6 エキシビション'!B10 -> 0
B72: =IF(J72=0,"",VLOOKUP(J72,'No.3 名簿'!meibo,4)) | C72: =IF(J72=0,"",VLOOKUP(J72,'No.3 名簿'!meibo,3)) | D72: =IF(K72=0,"",VLOOKUP(K72,'No.3 名簿'!meibo,4)) | E72: =IF(K72=0,"",VLOOKUP(K72,'No.3 名簿'!meibo,3)) | F72: =IF(L72=0,"",VLOOKUP(L72,'No.3 名簿'!meibo,4)) | G72: =IF(L72=0,"",VLOOKUP(L72,'No.3 名簿'!meibo,3)) | J72: ='No.6 エキシビション'!C10 -> 0 | K72: ='No.6 エキシビション'!D10 -> 0 | L72: ='No.6 エキシビション'!E10 -> 0
B74: 演技タイトル | C74: 演技時間
B75: =IF('No.6 エキシビション'!$H$15="","",'No.6 エキシビション'!$H$15) | C75: =IF('No.6 エキシビション'!$H$15="","",'No.6 エキシビション'!$L$15)
B76: 選手名 | C76: 学年 | D76: 選手名 | E76: 学年 | F76: 選手名 | G76: 学年 | J76: ID
B77: =IF(J77=0,"",VLOOKUP(J77,'No.3 名簿'!meibo,4)) | C77: =IF(J77=0,"",VLOOKUP(J77,'No.3 名簿'!meibo,3)) | D77: =IF(K77=0,"",VLOOKUP(K77,'No.3 名簿'!meibo,4)) | E77: =IF(K77=0,"",VLOOKUP(K77,'No.3 名簿'!meibo,3)) | F77: =IF(L77=0,"",VLOOKUP(L77,'No.3 名簿'!meibo,4)) | G77: =IF(L77=0,"",VLOOKUP(L77,'No.3 名簿'!meibo,3)) | J77: ='No.6 エキシビション'!A17 -> 0 | K77: ='No.6 エキシビション'!B17 -> 0 | L77: ='No.6 エキシビション'!C17 -> 0
B78: =IF(J78=0,"",VLOOKUP(J78,'No.3 名簿'!meibo,4)) | C78: =IF(J78=0,"",VLOOKUP(J78,'No.3 名簿'!meibo,3)) | D78: =IF(K78=0,"",VLOOKUP(K78,'No.3 名簿'!meibo,4)) | E78: =IF(K78=0,"",VLOOKUP(K78,'No.3 名簿'!meibo,3)) | F78: =IF(L78=0,"",VLOOKUP(L78,'No.3 名簿'!meibo,4)) | G78: =IF(L78=0,"",VLOOKUP(L78,'No.3 名簿'!meibo,3)) | J78: ='No.6 エキシビション'!D17 -> 0 | K78: ='No.6 エキシビション'!E17 -> 0 | L78: ='No.6 エキシビション'!A18 -> 0
B79: =IF(J79=0,"",VLOOKUP(J79,'No.3 名簿'!meibo,4)) | C79: =IF(J79=0,"",VLOOKUP(J79,'No.3 名簿'!meibo,3)) | D79: =IF(K79=0,"",VLOOKUP(K79,'No.3 名簿'!meibo,4)) | E79: =IF(K79=0,"",VLOOKUP(K79,'No.3 名簿'!meibo,3)) | F79: =IF(L79=0,"",VLOOKUP(L79,'No.3 名簿'!meibo,4)) | G79: =IF(L79=0,"",VLOOKUP(L79,'No.3 名簿'!meibo,3)) | J79: ='No.6 エキシビション'!B18 -> 0 | K79: ='No.6 エキシビション'!C18 -> 0 | L79: ='No.6 エキシビション'!D18 -> 0
B80: =IF(J80=0,"",VLOOKUP(J80,'No.3 名簿'!meibo,4)) | C80: =IF(J80=0,"",VLOOKUP(J80,'No.3 名簿'!meibo,3)) | D80: =IF(K80=0,"",VLOOKUP(K80,'No.3 名簿'!meibo,4)) | E80: =IF(K80=0,"",VLOOKUP(K80,'No.3 名簿'!meibo,3)) | F80: =IF(L80=0,"",VLOOKUP(L80,'No.3 名簿'!meibo,4)) | G80: =IF(L80=0,"",VLOOKUP(L80,'No.3 名簿'!meibo,3)) | J80: ='No.6 エキシビション'!E18 -> 0 | K80: ='No.6 エキシビション'!A19 -> 0 | L80: ='No.6 エキシビション'!B19 -> 0
B81: =IF(J81=0,"",VLOOKUP(J81,'No.3 名簿'!meibo,4)) | C81: =IF(J81=0,"",VLOOKUP(J81,'No.3 名簿'!meibo,3)) | D81: =IF(K81=0,"",VLOOKUP(K81,'No.3 名簿'!meibo,4)) | E81: =IF(K81=0,"",VLOOKUP(K81,'No.3 名簿'!meibo,3)) | F81: =IF(L81=0,"",VLOOKUP(L81,'No.3 名簿'!meibo,4)) | G81: =IF(L81=0,"",VLOOKUP(L81,'No.3 名簿'!meibo,3)) | J81: ='No.6 エキシビション'!C19 -> 0 | K81: ='No.6 エキシビション'!D19 -> 0 | L81: ='No.6 エキシビション'!E19 -> 0
B82: =IF(J82=0,"",VLOOKUP(J82,'No.3 名簿'!meibo,4)) | C82: =IF(J82=0,"",VLOOKUP(J82,'No.3 名簿'!meibo,3)) | D82: =IF(K82=0,"",VLOOKUP(K82,'No.3 名簿'!meibo,4)) | E82: =IF(K82=0,"",VLOOKUP(K82,'No.3 名簿'!meibo,3)) | F82: =IF(L82=0,"",VLOOKUP(L82,'No.3 名簿'!meibo,4)) | G82: =IF(L82=0,"",VLOOKUP(L82,'No.3 名簿'!meibo,3)) | J82: ='No.6 エキシビション'!A20 -> 0 | K82: ='No.6 エキシビション'!B20 -> 0 | L82: ='No.6 エキシビション'!C20 -> 0
B83: =IF(J83=0,"",VLOOKUP(J83,'No.3 名簿'!meibo,4)) | C83: =IF(J83=0,"",VLOOKUP(J83,'No.3 名簿'!meibo,3)) | D83: =IF(K83=0,"",VLOOKUP(K83,'No.3 名簿'!meibo,4)) | E83: =IF(K83=0,"",VLOOKUP(K83,'No.3 名簿'!meibo,3)) | F83: =IF(L83=0,"",VLOOKUP(L83,'No.3 名簿'!meibo,4)) | G83: =IF(L83=0,"",VLOOKUP(L83,'No.3 名簿'!meibo,3)) | J83: ='No.6 エキシビション'!D20 -> 0 | K83: ='No.6 エキシビション'!E20 -> 0 | L83: ='No.6 エキシビション'!A21 -> 0
B84: =IF(J84=0,"",VLOOKUP(J84,'No.3 名簿'!meibo,4)) | C84: =IF(J84=0,"",VLOOKUP(J84,'No.3 名簿'!meibo,3)) | D84: =IF(K84=0,"",VLOOKUP(K84,'No.3 名簿'!meibo,4)) | E84: =IF(K84=0,"",VLOOKUP(K84,'No.3 名簿'!meibo,3)) | F84: =IF(L84=0,"",VLOOKUP(L84,'No.3 名簿'!meibo,4)) | G84: =IF(L84=0,"",VLOOKUP(L84,'No.3 名簿'!meibo,3)) | J84: ='No.6 エキシビション'!B21 -> 0 | K84: ='No.6 エキシビション'!C21 -> 0 | L84: ='No.6 エキシビション'!D21 -> 0
B85: =IF(J85=0,"",VLOOKUP(J85,'No.3 名簿'!meibo,4)) | C85: =IF(J85=0,"",VLOOKUP(J85,'No.3 名簿'!meibo,3)) | D85: =IF(K85=0,"",VLOOKUP(K85,'No.3 名簿'!meibo,4)) | E85: =IF(K85=0,"",VLOOKUP(K85,'No.3 名簿'!meibo,3)) | F85: =IF(L85=0,"",VLOOKUP(L85,'No.3 名簿'!meibo,4)) | G85: =IF(L85=0,"",VLOOKUP(L85,'No.3 名簿'!meibo,3)) | J85: ='No.6 エキシビション'!E21 -> 0 | K85: ='No.6 エキシビション'!A22 -> 0 | L85: ='No.6 エキシビション'!B22 -> 0
B86: =IF(J86=0,"",VLOOKUP(J86,'No.3 名簿'!meibo,4)) | C86: =IF(J86=0,"",VLOOKUP(J86,'No.3 名簿'!meibo,3)) | D86: =IF(K86=0,"",VLOOKUP(K86,'No.3 名簿'!meibo,4)) | E86: =IF(K86=0,"",VLOOKUP(K86,'No.3 名簿'!meibo,3)) | F86: =IF(L86=0,"",VLOOKUP(L86,'No.3 名簿'!meibo,4)) | G86: =IF(L86=0,"",VLOOKUP(L86,'No.3 名簿'!meibo,3)) | J86: ='No.6 エキシビション'!C22 -> 0 | K86: ='No.6 エキシビション'!D22 -> 0 | L86: ='No.6 エキシビション'!E22 -> 0
B88: 演技タイトル | C88: 演技時間
B89: =IF('No.6 エキシビション'!$H$28="","",'No.6 エキシビション'!$H$28) | C89: =IF('No.6 エキシビション'!$H$28="","",'No.6 エキシビション'!$L$28)
B90: 選手名 | C90: 学年 | D90: 選手名 | E90: 学年 | F90: 選手名 | G90: 学年 | J90: ID
B91: =IF(J91=0,"",VLOOKUP(J91,'No.3 名簿'!meibo,4)) | C91: =IF(J91=0,"",VLOOKUP(J91,'No.3 名簿'!meibo,3)) | D91: =IF(K91=0,"",VLOOKUP(K91,'No.3 名簿'!meibo,4)) | E91: =IF(K91=0,"",VLOOKUP(K91,'No.3 名簿'!meibo,3)) | F91: =IF(L91=0,"",VLOOKUP(L91,'No.3 名簿'!meibo,4)) | G91: =IF(L91=0,"",VLOOKUP(L91,'No.3 名簿'!meibo,3)) | J91: ='No.6 エキシビション'!A30 -> 0 | K91: ='No.6 エキシビション'!B30 -> 0 | L91: ='No.6 エキシビション'!C30 -> 0
B92: =IF(J92=0,"",VLOOKUP(J92,'No.3 名簿'!meibo,4)) | C92: =IF(J92=0,"",VLOOKUP(J92,'No.3 名簿'!meibo,3)) | D92: =IF(K92=0,"",VLOOKUP(K92,'No.3 名簿'!meibo,4)) | E92: =IF(K92=0,"",VLOOKUP(K92,'No.3 名簿'!meibo,3)) | F92: =IF(L92=0,"",VLOOKUP(L92,'No.3 名簿'!meibo,4)) | G92: =IF(L92=0,"",VLOOKUP(L92,'No.3 名簿'!meibo,3)) | J92: ='No.6 エキシビション'!D30 -> 0 | K92: ='No.6 エキシビション'!E30 -> 0 | L92: ='No.6 エキシビション'!A31 -> 0
B93: =IF(J93=0,"",VLOOKUP(J93,'No.3 名簿'!meibo,4)) | C93: =IF(J93=0,"",VLOOKUP(J93,'No.3 名簿'!meibo,3)) | D93: =IF(K93=0,"",VLOOKUP(K93,'No.3 名簿'!meibo,4)) | E93: =IF(K93=0,"",VLOOKUP(K93,'No.3 名簿'!meibo,3)) | F93: =IF(L93=0,"",VLOOKUP(L93,'No.3 名簿'!meibo,4)) | G93: =IF(L93=0,"",VLOOKUP(L93,'No.3 名簿'!meibo,3)) | J93: ='No.6 エキシビション'!B31 -> 0 | K93: ='No.6 エキシビション'!C31 -> 0 | L93: ='No.6 エキシビション'!D31 -> 0
B94: =IF(J94=0,"",VLOOKUP(J94,'No.3 名簿'!meibo,4)) | C94: =IF(J94=0,"",VLOOKUP(J94,'No.3 名簿'!meibo,3)) | D94: =IF(K94=0,"",VLOOKUP(K94,'No.3 名簿'!meibo,4)) | E94: =IF(K94=0,"",VLOOKUP(K94,'No.3 名簿'!meibo,3)) | F94: =IF(L94=0,"",VLOOKUP(L94,'No.3 名簿'!meibo,4)) | G94: =IF(L94=0,"",VLOOKUP(L94,'No.3 名簿'!meibo,3)) | J94: ='No.6 エキシビション'!E31 -> 0 | K94: ='No.6 エキシビション'!A32 -> 0 | L94: ='No.6 エキシビション'!B32 -> 0
B95: =IF(J95=0,"",VLOOKUP(J95,'No.3 名簿'!meibo,4)) | C95: =IF(J95=0,"",VLOOKUP(J95,'No.3 名簿'!meibo,3)) | D95: =IF(K95=0,"",VLOOKUP(K95,'No.3 名簿'!meibo,4)) | E95: =IF(K95=0,"",VLOOKUP(K95,'No.3 名簿'!meibo,3)) | F95: =IF(L95=0,"",VLOOKUP(L95,'No.3 名簿'!meibo,4)) | G95: =IF(L95=0,"",VLOOKUP(L95,'No.3 名簿'!meibo,3)) | J95: ='No.6 エキシビション'!C32 -> 0 | K95: ='No.6 エキシビション'!D32 -> 0 | L95: ='No.6 エキシビション'!E32 -> 0
B96: =IF(J96=0,"",VLOOKUP(J96,'No.3 名簿'!meibo,4)) | C96: =IF(J96=0,"",VLOOKUP(J96,'No.3 名簿'!meibo,3)) | D96: =IF(K96=0,"",VLOOKUP(K96,'No.3 名簿'!meibo,4)) | E96: =IF(K96=0,"",VLOOKUP(K96,'No.3 名簿'!meibo,3)) | F96: =IF(L96=0,"",VLOOKUP(L96,'No.3 名簿'!meibo,4)) | G96: =IF(L96=0,"",VLOOKUP(L96,'No.3 名簿'!meibo,3)) | J96: ='No.6 エキシビション'!A33 -> 0 | K96: ='No.6 エキシビション'!B33 -> 0 | L96: ='No.6 エキシビション'!C33 -> 0
B97: =IF(J97=0,"",VLOOKUP(J97,'No.3 名簿'!meibo,4)) | C97: =IF(J97=0,"",VLOOKUP(J97,'No.3 名簿'!meibo,3)) | D97: =IF(K97=0,"",VLOOKUP(K97,'No.3 名簿'!meibo,4)) | E97: =IF(K97=0,"",VLOOKUP(K97,'No.3 名簿'!meibo,3)) | F97: =IF(L97=0,"",VLOOKUP(L97,'No.3 名簿'!meibo,4)) | G97: =IF(L97=0,"",VLOOKUP(L97,'No.3 名簿'!meibo,3)) | J97: ='No.6 エキシビション'!D33 -> 0 | K97: ='No.6 エキシビション'!E33 -> 0 | L97: ='No.6 エキシビション'!A34 -> 0
B98: =IF(J98=0,"",VLOOKUP(J98,'No.3 名簿'!meibo,4)) | C98: =IF(J98=0,"",VLOOKUP(J98,'No.3 名簿'!meibo,3)) | D98: =IF(K98=0,"",VLOOKUP(K98,'No.3 名簿'!meibo,4)) | E98: =IF(K98=0,"",VLOOKUP(K98,'No.3 名簿'!meibo,3)) | F98: =IF(L98=0,"",VLOOKUP(L98,'No.3 名簿'!meibo,4)) | G98: =IF(L98=0,"",VLOOKUP(L98,'No.3 名簿'!meibo,3)) | J98: ='No.6 エキシビション'!B34 -> 0 | K98: ='No.6 エキシビション'!C34 -> 0 | L98: ='No.6 エキシビション'!D34 -> 0
B99: =IF(J99=0,"",VLOOKUP(J99,'No.3 名簿'!meibo,4)) | C99: =IF(J99=0,"",VLOOKUP(J99,'No.3 名簿'!meibo,3)) | D99: =IF(K99=0,"",VLOOKUP(K99,'No.3 名簿'!meibo,4)) | E99: =IF(K99=0,"",VLOOKUP(K99,'No.3 名簿'!meibo,3)) | F99: =IF(L99=0,"",VLOOKUP(L99,'No.3 名簿'!meibo,4)) | G99: =IF(L99=0,"",VLOOKUP(L99,'No.3 名簿'!meibo,3)) | J99: ='No.6 エキシビション'!E34 -> 0 | K99: ='No.6 エキシビション'!A35 -> 0 | L99: ='No.6 エキシビション'!B35 -> 0
B100: =IF(J100=0,"",VLOOKUP(J100,'No.3 名簿'!meibo,4)) | C100: =IF(J100=0,"",VLOOKUP(J100,'No.3 名簿'!meibo,3)) | D100: =IF(K100=0,"",VLOOKUP(K100,'No.3 名簿'!meibo,4)) | E100: =IF(K100=0,"",VLOOKUP(K100,'No.3 名簿'!meibo,3)) | F100: =IF(L100=0,"",VLOOKUP(L100,'No.3 名簿'!meibo,4)) | G100: =IF(L100=0,"",VLOOKUP(L100,'No.3 名簿'!meibo,3)) | J100: ='No.6 エキシビション'!C35 -> 0 | K100: ='No.6 エキシビション'!D35 -> 0 | L100: ='No.6 エキシビション'!E35 -> 0
